BEGIN:VCALENDAR
VERSION:2.0
PRODID:-//wp-events-plugin.com//7.2.3.1//EN
TZID:America/Detroit
X-WR-TIMEZONE:America/Detroit
BEGIN:VEVENT
UID:34736@arabamerica.com
DTSTART;TZID=America/Detroit:20250712T230000
DTEND;TZID=America/Detroit:20250713T030000
DTSTAMP:20250708T201541Z
URL:https://www.arabamerica.com/events/hola-habibi/
SUMMARY:HOLA HABIBI
DESCRIPTION:WASHINGTON D.C.\n\n&nbsp\;\n\nHola Habibi – Sax\n\nGet ready\
 , DC! On Saturday\, July 12th\, SAX transforms into a sizzling fusion of 
 Latin fire and Middle Eastern magic for the electrifying debut of Hola Ha
 bibi. Join DJ Heat and DJ Mojito as they go back-to-back on the decks\
 , blending reggaeton’s hottest hits with hypnotic Middle Eastern melodie
 s. It’s more than music\, it’s a global dance affair wrapped in gold\,
  spice\, and bass.\n\n&#x2728\; Date: Saturday\, July 12th\n\n&#x1f55a\;
  Time: 11:00 PM – 3:00 AM\n\n&#x1f4cd\; Location: Sax Lounge\, 734 11t
 h St NW\, Washington\, DC 20001\n\nWhat to Expect:\n\n&#x1f31f\; Mesmerizi
 ng live performances with an exotic twist\n\n&#x1f378\; Signature cocktail
 s crafted to match the rhythm of the night\n\n&#x1f3b6\; Latin + Middle Ea
 stern beats that will keep the dance floor on fire\n\n&#x1f942\; Ladies e
 njoy complimentary champagne until 12:30 AM\n\nIn collaboration with Inter
 nightlife and SAX\, whether you're swaying to the darbuka or dropping low 
 to the dembow\, this is the night your summer's been waiting for.\n\nCome 
 dressed to impress and ready to dance.\n\nJOIN US at our upcoming memorabl
 e nights with us:\n\nhttps://www.instagram.com/citysocialsdc...\n\nhttps:/
 /www.facebook.com/citysocialsdc?mibextid=LQQJ4d\n\nCONTACT INFORMATION:\n\
 nAnais - CitySocials : 240-444-3564\n\nRob- Internightlife : 703-587-0382\
 n\nPOLICIES\n\nVALID ID/Passport Only - (21+) Dress Code Policy – Busine
 ss Casual | No sportswear (no ripped jeans\, no hats\, no jerseys) permitt
 ed
ATTACH;FMTTYPE=image/jpeg:https://www.arabamerica.com/wp-content/uploads/2
 025/07/hola_habibi_fusion.png
LOCATION:SAX Dinner Theater and Lounge\, 734 11th Street Northwest\, Washin
 gton\, DC\, Washington\, DC\, 20001\, United States
GEO:38.899357;-77.027232
X-APPLE-STRUCTURED-LOCATION;VALUE=URI;X-ADDRESS=734 11th Street Northwest\,
  Washington\, DC\, Washington\, DC\, 20001\, United States;X-APPLE-RADIUS=
 100;X-TITLE=SAX Dinner Theater and Lounge:geo:38.899357,-77.027232
END:VEVENT
BEGIN:VTIMEZONE
TZID:America/Detroit
X-LIC-LOCATION:America/Detroit
BEGIN:DAYLIGHT
DTSTART:20250309T030000
TZOFFSETFROM:-0500
TZOFFSETTO:-0400
TZNAME:EDT
END:DAYLIGHT
END:VTIMEZONE
END:VCALENDAR