BEGIN:VCALENDAR
VERSION:2.0
PRODID:-//wp-events-plugin.com//7.2.3.1//EN
TZID:America/Detroit
X-WR-TIMEZONE:America/Detroit
BEGIN:VEVENT
UID:35527@arabamerica.com
DTSTART;TZID=Pacific/Palau:20251217T173000
DTEND;TZID=Pacific/Palau:20251217T193000
DTSTAMP:20251211T141249Z
URL:https://www.arabamerica.com/events/holiday-card-making-with-arabic-foo
 d/
SUMMARY:Holiday card making with Arabic food!
DESCRIPTION:\n\n\n\n\nSEATTLE\, WA\n\nOverview\n\n\n\n\n\nHoliday card maki
 ng and Brush lettering hosted by Laurisa. Arabic food and specialty drinks
  provided by Hamsa.\n\n\n\n\nCome for a cozy evening of winter and holiday
  card-making together! There will be assorted paper\, pens\, glue\, paints
 \, and more to adorn the cards along with some basic brush lettering instr
 uction by Laurisa (@by.cafelaurisa) if desired!\n\nPrice at the door is $4
 0 which includes art materials for holiday cards that you can take home\, 
 Arabic food (ie falafel\, hummus\, chicken\, salad\, etc) and drinks (ie h
 omemade mint lemonade or tea) provided by Hamsa.\n\nRegister by 12/10 for 
 a 15% discount.\n\n\n\n\n\n\nCategory: Holiday\, Other\n\n\n\n\n\n\n\n\n\
 nGood to know\n\n\n\n\nHighlights\n\n\n\n 	2 hours\n 	all ages\n 	In perso
 n\n 	Free parking\n 	Doors at 5:15 PM\n\n\n\n\n\n\n\n\n
ATTACH;FMTTYPE=image/jpeg:https://www.arabamerica.com/wp-content/uploads/2
 025/12/pexels-anntarazevich-6146623-300x200-1.jpeg
LOCATION:Hamsa Seattle (Arabic Cafe + Restaurant)\, 2313 North 45th Street\
 , Seattle\, WA\, 98103\, United States
GEO:47.661228;-122.330753
X-APPLE-STRUCTURED-LOCATION;VALUE=URI;X-ADDRESS=2313 North 45th Street\, Se
 attle\, WA\, 98103\, United States;X-APPLE-RADIUS=100;X-TITLE=Hamsa Seattl
 e (Arabic Cafe + Restaurant):geo:47.661228,-122.330753
END:VEVENT
BEGIN:VTIMEZONE
TZID:Pacific/Palau
X-LIC-LOCATION:Pacific/Palau
BEGIN:STANDARD
DTSTART:20241217T173000
TZOFFSETFROM:+0900
TZOFFSETTO:+0900
TZNAME:+09
END:STANDARD
END:VTIMEZONE
END:VCALENDAR