BEGIN:VCALENDAR
VERSION:2.0
PRODID:-//wp-events-plugin.com//7.2.3.1//EN
TZID:America/Detroit
X-WR-TIMEZONE:America/Detroit
BEGIN:VEVENT
UID:36127@arabamerica.com
DTSTART;TZID=America/New_York:20260416T180000
DTEND;TZID=America/New_York:20260416T210000
DTSTAMP:20260401T010823Z
URL:https://www.arabamerica.com/events/home-a-palestinian-womans-pursuit-o
 f-life-liberty-and-happiness-2/
SUMMARY:Home? A Palestinian Woman's Pursuit of Life\, Liberty\, and Happine
 ss.
DESCRIPTION:\n\n\nA performance and workshop by Hend Ayoub\n\n\n\n\n\n\nIn 
 Israel\, she's Palestinian. In the Arab world\, she's Israeli. In America\
 , she's an "Other." Join us for a conversation with renowned actress Hend 
 Ayoub and short performance from her autobiographical one-person show abou
 t a young woman's journey to retrieve and imagine a new sense of home. Hen
 d shares a deeply personal\, true story about a search for the place that 
 many of us take for granted: Home.\n\n\n
ATTACH;FMTTYPE=image/jpeg:https://www.arabamerica.com/wp-content/uploads/2
 026/03/HOME.webp
LOCATION:14A Washington Mews\, 14A Washington Mews\, New York\, NY\, 10003\
 , United States
GEO:40.731083;-73.995726
X-APPLE-STRUCTURED-LOCATION;VALUE=URI;X-ADDRESS=14A Washington Mews\, New Y
 ork\, NY\, 10003\, United States;X-APPLE-RADIUS=100;X-TITLE=14A Washington
  Mews:geo:40.731083,-73.995726
END:VEVENT
BEGIN:VTIMEZONE
TZID:America/New_York
X-LIC-LOCATION:America/New_York
BEGIN:DAYLIGHT
DTSTART:20260308T030000
TZOFFSETFROM:-0500
TZOFFSETTO:-0400
TZNAME:EDT
END:DAYLIGHT
END:VTIMEZONE
END:VCALENDAR