BEGIN:VCALENDAR
VERSION:2.0
PRODID:-//wp-events-plugin.com//7.2.3.1//EN
TZID:America/Detroit
X-WR-TIMEZONE:America/Detroit
BEGIN:VEVENT
UID:35093@arabamerica.com
DTSTART;TZID=America/New_York:20250912T000000
DTEND;TZID=America/New_York:20251011T000000
DTSTAMP:20250909T175251Z
URL:https://www.arabamerica.com/events/home-a-palestinian-womans-pursuit-o
 f-life-liberty-happiness/
SUMMARY:Home? A Palestinian Woman's Pursuit of Life\, Liberty & Happiness
DESCRIPTION:\nNEW YORK\, NY\nShow Info\n**Use this Discount code for $25 ti
 cket when buying in advance online: HOMEFRIEND\n\nWritten and performed b
 y Hend Ayoub\nDirected by Carey Perloff\n\nIn Israel\, she’s Palestinian
 . In the Arab world\, she’s Israeli. In America\, she’s an “other.
 ”\n\nThrough a panoply of vivid characters including her five-year-old s
 elf\, an Egyptian casting director\, her dying mother\, and many others\, 
 Home? follows the true story of Hend Ayoub's journey to define her identit
 y and find a place where she belongs. With warmth and humor\, her poignant
  struggle asks: In a world divided by nationality and ethnicity\, where is
  home for those caught between worlds?\n\n\nHome? was commissioned and dev
 eloped by San Francisco Playhouse. Original workshop production presented 
 by Voices Festival Production as part of its 2022 Voices From a Changing M
 iddle East Festival: Losing/Finding Home. Developed by Noor Theatre as par
 t of its Highlight Reading Series. With support from The NYC Women’s Fun
 d for Media\, Music and Theatre by the City of New York Mayor’s Office o
 f Media and Entertainment in association with The New York Foundation for 
 the Arts.\n\n\n\n\nJoin us for post-show talkbacks following these perfo
 rmances:\n\n 	Wednesday\, September 17 at 7:30 PM with Rula Jebreal and D
 ean Obeidallah\n 	Tuesday\, September 23 at 7:30 PM with Aasif Mandvi and
  Dean Obeidallah\n 	Saturday\, September 27 at 2:30 PM with Jim Nicola and
  Alexandra Aron\n 	Tuesday\, September 30 at 7:30 PM with Gili Getz\, Jen
 ni Lawson\, and Alisa Solomon\n 	Wednesday\, October 1 at 7:30 PM with Ju
 dith Sloan\, Najla Said\, and Dean Obeidallah\n 	Sunday\, October 5 at 2:3
 0 PM with Peter Beinart and Dean Obeidallah\n 	Thursday\, October 9 at 7:3
 0 PM with Murad Awawdeh\, Maysoon Zayid\, and Dean Obeidallah\n\nGET TICK
 ETS HERE
ATTACH;FMTTYPE=image/jpeg:https://www.arabamerica.com/wp-content/uploads/2
 025/09/Screenshot-2025-09-09-at-1.51.47-PM.png
LOCATION:59 East 59th Street\, 59 East 59th Street \, New York\, NY\, 10022
 \, United States
GEO:40.761325;-73.966044
X-APPLE-STRUCTURED-LOCATION;VALUE=URI;X-ADDRESS=59 East 59th Street \, New 
 York\, NY\, 10022\, United States;X-APPLE-RADIUS=100;X-TITLE=59 East 59th 
 Street:geo:40.761325,-73.966044
END:VEVENT
BEGIN:VTIMEZONE
TZID:America/New_York
X-LIC-LOCATION:America/New_York
BEGIN:DAYLIGHT
DTSTART:20250309T030000
TZOFFSETFROM:-0500
TZOFFSETTO:-0400
TZNAME:EDT
END:DAYLIGHT
END:VTIMEZONE
END:VCALENDAR