BEGIN:VCALENDAR
VERSION:2.0
PRODID:-//wp-events-plugin.com//7.2.3.1//EN
TZID:America/Detroit
X-WR-TIMEZONE:America/Detroit
BEGIN:VEVENT
UID:32297@arabamerica.com
DTSTART;TZID=America/Detroit:20240222T103000
DTEND;TZID=America/Detroit:20240222T123000
DTSTAMP:20240220T211319Z
URL:https://www.arabamerica.com/events/home-school-kids-egyptian-lasagna/
SUMMARY:Home School Kids- Egyptian Lasagna
DESCRIPTION:\n\nMacaroni bechamel is a popular Egyptian dish made with grou
 nd beef between layers of penne noodles with béchamel.\n\nBechamel sauce 
 is a sauce traditionally made from a white roux and milk. In this dish\, f
 lavors of dill\, garlic and other spices combine with a white sauce or Rou
 x and mozzarella cheese to create this scrumptious dish.\n\nIn this class 
 students will work as a team to make pan of Egyptian Lasagna. Parents are 
 invited to join the group at lunch time to enjoy the dish the kids have ma
 de while watching a video presentation of Gina's travels to Egypt with her
  daughter Stephanie.\n\nThis is one of the most popular dishes in Egypt!
ATTACH;FMTTYPE=image/jpeg:https://www.arabamerica.com/wp-content/uploads/2
 024/02/Screen-Shot-2024-02-20-at-8.52.21-AM.png
CATEGORIES:Arab American,Community,culture
END:VEVENT
BEGIN:VTIMEZONE
TZID:America/Detroit
X-LIC-LOCATION:America/Detroit
BEGIN:STANDARD
DTSTART:20231105T010000
TZOFFSETFROM:-0400
TZOFFSETTO:-0500
TZNAME:EST
END:STANDARD
END:VTIMEZONE
END:VCALENDAR