BEGIN:VCALENDAR
VERSION:2.0
PRODID:-//wp-events-plugin.com//7.2.3.1//EN
TZID:America/Detroit
X-WR-TIMEZONE:America/Detroit
BEGIN:VEVENT
UID:35305@arabamerica.com
DTSTART;TZID=America/Detroit:20251215T190000
DTEND;TZID=America/Detroit:20251215T210000
DTSTAMP:20251028T003350Z
URL:https://www.arabamerica.com/events/hossams-people-a-reading-of-texts-f
 rom-gaza/
SUMMARY:HOSSAM'S PEOPLE: a reading of texts from Gaza
DESCRIPTION:NEW YORK\, NY\n\n\n\nA theatrical piece comprised of texts from
  the experiences of people and children in Gaza during the two-year war th
 at began in October 2023\n\n\n\n\nNPTC is honored to present this importan
 t work\, which had been postponed due to the inability of the creator and 
 director of the piece\, Jonathan Chadwick\, to travel SAFELY to the U.S. a
 t this time.\n\nA British citizen and internationally renowned theatre art
 ist\, Jonathan would have had to relinquish ALL RIGHTS at the border becau
 se of his work in U.S. targeted countries through his company AZ Theatre.\
 n\nOur thanks to Malini Singh McDonald for stepping in.\n\nHOSSAM’S PEOP
 LE: a reading event followed by a post-performance conversation.\n\nText f
 rom Gaza by Hossam Madhoun\, written during the genocide from October 2023
  onwards. Text from children in Gaza included with permission of the Pales
 tine Trauma Centre.\n\nA co-production by Az Theatre (London) and Teatro T
 edacá (Turin) in collaboration with Theatre for Everybody (Gaza).\n\nAdap
 ted by Jonathan Chadwick\; Creative Producer: Iante Roach\n\nOriginal text
 s edited by Ruth Lass and Jonathan Chadwick\n\nFeaturing SOPHIA ARANDA\, D
 ANNY GOMEZ\, JESSICA LITWAK\, STEVEN MARTIN\, JOMACK MIRANDA\, ELSA MOLLIE
 N\, MARIE-ELÉNA O'BRIEN\, ANUJ PARIKH\, REGINA RUSSELL\, MARY SHERIDAN\n\
 nHossam Madhoun is co-director of Theatre for Everybody in Gaza. This comp
 any was founded during the first intifada in 1989. He is an actor\, transl
 ator\, writer\, producer. He is a Child Protection Programme Manager and c
 arries on this work now from Cairo. For information about Az Theatre and T
 heatre for Everybody’s collaboration since 2009 please see: https://azth
 eatre.org.uk/gaza-drama-long-term-2/\n\nMalini Singh McDonald is a native 
 New Yorker. MFA: Actors Studio Drama School\; BA: Theatre Arts and English
  Literature\, Baruch College\; MPA: Baruch College. She is the founder of 
 Theatre Beyond Broadway\, a platform to promote and support independent ar
 tists. Collaborations include Speranza Theatre Company\, The Anthropologis
 ts\, Broadway Artists Connection\, Mind the Art Entertainment\, and New Pe
 rspectives Theatre Company. Favorite projects: Bumble\; Torch Song Trilogy
 \; The Colored Museum\; The Wiz (Matsiko World Orphan Choir\, Liberia)\; T
 he Discovery. Current project: Two-time award winning Notes from a Narciss
 istic Negro and Other N Words by Elizabeth June.\n\nJonathan Chadwick is a
  theatre director and writer\, currently Director of Az Theatre working on
  experimental\, international and community projects (www.aztheatre.org.uk
 ). He has directed companies and plays with Theatre Foundry\, the Crucible
  Theatre’s Vanguard Company\, Theatre Royal Stratford East\, Glasgow Cit
 izen’s Theatre\, Royal Court Theatre\, Half Moon Theatre\, The Roundhous
 e\, Foco Novo\, 7:84\, and internationally in Australia\, Romania\, Canada
 \, USA\, Serbia and Kosovo. He has also directed and taught at LAMDA\, RAD
 A\, the London Film School and elsewhere. He has a Masters in Ecological E
 conomics. www.jonathanchadwick.net\n\nAz Theatre and Theatre for Everybody
  are currently collaborating on a series of "public conversation" events l
 ive from P21 Gallery London and online. More about PALESTINE: REPAIR &amp\
 ; RETURN: https://aztheatre.org.uk/gaza-drama-long-term-2/palestine-repair
 -return-theatre-for-everybody-gaza-az-theatre-london/\n\n\n
ATTACH;FMTTYPE=image/jpeg:https://www.arabamerica.com/wp-content/uploads/2
 025/10/https-cdn.evbuc_.com-images-1149192993-309538332382-1-original.2025
 1009-170053.jpeg
LOCATION:New Perspectives Theatre Company\, 458 West 37th Street\, New York
 \, NY\, 10018\, United States
GEO:40.756273;-73.99747
X-APPLE-STRUCTURED-LOCATION;VALUE=URI;X-ADDRESS=458 West 37th Street\, New 
 York\, NY\, 10018\, United States;X-APPLE-RADIUS=100;X-TITLE=New Perspecti
 ves Theatre Company:geo:40.756273,-73.99747
END:VEVENT
BEGIN:VTIMEZONE
TZID:America/Detroit
X-LIC-LOCATION:America/Detroit
BEGIN:STANDARD
DTSTART:20251102T010000
TZOFFSETFROM:-0400
TZOFFSETTO:-0500
TZNAME:EST
END:STANDARD
END:VTIMEZONE
END:VCALENDAR