BEGIN:VCALENDAR
VERSION:2.0
PRODID:-//wp-events-plugin.com//7.2.3.1//EN
TZID:America/Detroit
X-WR-TIMEZONE:America/Detroit
BEGIN:VEVENT
UID:33538@arabamerica.com
DTSTART;TZID=America/Detroit:20240927T130000
DTEND;TZID=America/Detroit:20240929T220000
DTSTAMP:20240917T182103Z
URL:https://www.arabamerica.com/events/houston-lebanese-festival-2024/
SUMMARY:Houston Lebanese Festival 2024
DESCRIPTION:HOUSTON\, TX\n\n&nbsp\;\n\n\nJoin us for three days of exceptio
 nal music\, laughter\, and celebration of Lebanese culture!\n\n\n\n\n\nThe
  2024 American Lebanese Cultural Center event\, aptly named "Uniting Commu
 nity\, Building Tomorrow\," aims to bring together the Lebanese community 
 in a vibrant and enjoyable setting while also introducing our rich cultura
 l heritage to non-Lebanese attendees. Since 2015\, we have held this annua
 l event to foster connections within our community and to share our tradit
 ions with a broader audience. This year\, as in recent years\, we are prou
 d to support the Children’s Cancer Center of Lebanon (CCCL) by donating 
 10% of our net income to their cause. Additionally\, we are raising funds 
 to realize our dream of building a dedicated cultural center and museum. O
 ur vision is to create a space where our heritage can be celebrated and pr
 eserved\, offering future generations a place to connect with and take pri
 de in their roots. Through this event\, we aim to strengthen our community
  bonds and make meaningful contributions to both our local community and k
 ids in need in Lebanon\, while continuing our practice of supporting the H
 ouston community\, as we have done in the past with the Fort Bend Educatio
 nal Foundation.\n\n\n
LOCATION:THE WATER WORKS AT BUFFALO BAYOU PARK\,  105 SABINE STREET\, HOUST
 ON\, TX\, United States
GEO:29.763078;-95.376146
X-APPLE-STRUCTURED-LOCATION;VALUE=URI;X-ADDRESS= 105 SABINE STREET\, HOUSTO
 N\, TX\, United States;X-APPLE-RADIUS=100;X-TITLE=THE WATER WORKS AT BUFFA
 LO BAYOU PARK:geo:29.763078,-95.376146
END:VEVENT
BEGIN:VTIMEZONE
TZID:America/Detroit
X-LIC-LOCATION:America/Detroit
BEGIN:DAYLIGHT
DTSTART:20240310T030000
TZOFFSETFROM:-0500
TZOFFSETTO:-0400
TZNAME:EDT
END:DAYLIGHT
END:VTIMEZONE
END:VCALENDAR