BEGIN:VCALENDAR
VERSION:2.0
PRODID:-//wp-events-plugin.com//7.2.3.1//EN
TZID:America/Detroit
X-WR-TIMEZONE:America/Detroit
BEGIN:VEVENT
UID:35662@arabamerica.com
DTSTART;TZID=America/Denver:20260131T000000
DTEND;TZID=America/Denver:20260131T000000
DTSTAMP:20260107T011618Z
URL:https://www.arabamerica.com/events/houston-muslim-marriage-event-in-pe
 rson-5/
SUMMARY:Houston Muslim Marriage Event (In-Person)
DESCRIPTION:This is an in-person event brining together Muslim professional
 s who are looking to get married
ATTACH;FMTTYPE=image/jpeg:https://www.arabamerica.com/wp-content/uploads/2
 026/01/https___cdn.evbuc_.com_images_497562129_440079347442_1_original.jpg
CATEGORIES:Arab American,Dating,marriage
LOCATION:Houston\, Houston\, Houston\, TX\, United States
GEO:29.9723669;-95.13799460000001
X-APPLE-STRUCTURED-LOCATION;VALUE=URI;X-ADDRESS=Houston\, Houston\, TX\, Un
 ited States;X-APPLE-RADIUS=100;X-TITLE=Houston:geo:29.9723669,-95.13799460
 000001
END:VEVENT
BEGIN:VTIMEZONE
TZID:America/Denver
X-LIC-LOCATION:America/Denver
BEGIN:STANDARD
DTSTART:20251102T010000
TZOFFSETFROM:-0600
TZOFFSETTO:-0700
TZNAME:MST
END:STANDARD
END:VTIMEZONE
END:VCALENDAR