BEGIN:VCALENDAR
VERSION:2.0
PRODID:-//wp-events-plugin.com//7.2.3.1//EN
TZID:America/Detroit
X-WR-TIMEZONE:America/Detroit
BEGIN:VEVENT
UID:32420@arabamerica.com
DTSTART;TZID=America/Detroit:20240321T190000
DTEND;TZID=America/Detroit:20240321T210000
DTSTAMP:20240310T234814Z
URL:https://www.arabamerica.com/events/iccp-yp-2024-iftar/
SUMMARY:ICCP YP 2024 Iftar
DESCRIPTION:&nbsp\;\n\n[caption id="attachment_246094" align="alignnone" wi
 dth="300"] Join ICCP Young Professionals for a Ramadan Iftar Promotional P
 oster[/caption]\n\n&nbsp\;\n\nPOTOMAC\, MD\n\nWe’re back with another an
 nual iftar ! Join us for a free catered iftar dinner at ICCP. Please do yo
 ur best to register so we can get an accurate count.\n\nIftar will be outs
 ide near the barn. Bring your friends\, spouse\, siblings!\n\nOpen to ages
  20s - 40s.
ATTACH;FMTTYPE=image/jpeg:https://www.arabamerica.com/wp-content/uploads/2
 024/03/Join-ICCP-Young-Professionals-for-a-Ramadan-Iftar-Promotional-Poste
 r-.png
LOCATION:Islamic Community Center of Potomac\, 10601 River Road\, Potomac\,
  MD\,  20854\, United States
GEO:39.024769;-77.217004
X-APPLE-STRUCTURED-LOCATION;VALUE=URI;X-ADDRESS=10601 River Road\, Potomac\
 , MD\,  20854\, United States;X-APPLE-RADIUS=100;X-TITLE=Islamic Community
  Center of Potomac:geo:39.024769,-77.217004
END:VEVENT
BEGIN:VTIMEZONE
TZID:America/Detroit
X-LIC-LOCATION:America/Detroit
BEGIN:DAYLIGHT
DTSTART:20240310T030000
TZOFFSETFROM:-0500
TZOFFSETTO:-0400
TZNAME:EDT
END:DAYLIGHT
END:VTIMEZONE
END:VCALENDAR