BEGIN:VCALENDAR
VERSION:2.0
PRODID:-//wp-events-plugin.com//7.2.3.1//EN
TZID:America/Detroit
X-WR-TIMEZONE:America/Detroit
BEGIN:VEVENT
UID:32371@arabamerica.com
DTSTART;TZID=America/Detroit:20240331T170000
DTEND;TZID=America/Detroit:20240331T230000
DTSTAMP:20240304T163856Z
URL:https://www.arabamerica.com/events/iftaar-at-the-beach-pt-8/
SUMMARY:Iftaar at the Beach Pt. 8!
DESCRIPTION:&nbsp\;\n\n[caption id="attachment_245760" align="alignnone" wi
 dth="300"] Iftaar at the Beach Pt. 8's promotional image[/caption]\n\n&nbs
 p\;\n\nHUNTINGTON BEACH\, CALIFORNIA\n\nDear LA/OC Community\,\n\nWe exten
 d our heartfelt gratitude to each one of you for expressing your enthusias
 m and desire to join us for the 8th annual of "Iftaar at the Beach." Your 
 ongoing support has been the driving force behind the success of our previ
 ous events\, and we are truly thankful for the sense of community you brin
 g to these gatherings.\n\nThis year\, as we embark on a new chapter with I
 ftaar at the Beach Pt 8\, we are excited to introduce some changes to enha
 nce the experience for all. In the spirit of furthering our impact and mak
 ing a meaningful contribution\, we have decided to introduce a nominal fee
  for this event. The ticket price is set at $35 plus fees\, and we believe
  this will allow us to not only cover the costs of organizing a memorable 
 evening but also make a significant contribution to a cause close to our h
 earts. In order to receive a meal\, you will need to show your QR Code fro
 m your email/app and show it to a volunteer distributing food. Don't let t
 his deter you from joining. If you cannot purchase a ticket\, please speak
  to me directly we would love to accomadate you.\n\nAll proceeds from tick
 et sales will be directed towards supporting the Palestine Children's Reli
 ef Fund (PCRF)\, an organization dedicated to providing medical care and h
 umanitarian aid to children in need. Your participation and ticket purchas
 e will directly contribute to their noble cause. For those who wish to con
 tribute even further\, you are welcome to make additional donations direct
 ly to PCRF through their website: PCRF Donation Link.\n\nWe are excited ab
 out this positive change and the potential impact it holds. Your continued
  support not only makes Iftaar at the Beach a special event but also allow
 s us to make a meaningful difference in the lives of those who need it mos
 t.\n\nThank you once again for being an integral part of our LA/OC communi
 ty and for making Ramadan a special one full of compassion\, unity\, and g
 enerosity.\n\nWarm regards\,\nSkeeb!\n(Summer Socials)
ATTACH;FMTTYPE=image/jpeg:https://www.arabamerica.com/wp-content/uploads/2
 024/03/Iftaar-at-the-Beach-Pt.-8-promotional-image-.png
LOCATION:Huntington State Beach\, 21601 Pacific Coast Hwy\, Huntington Beac
 h\, California\, 92646\, United States
GEO:33.639701;-117.974289
X-APPLE-STRUCTURED-LOCATION;VALUE=URI;X-ADDRESS=21601 Pacific Coast Hwy\, H
 untington Beach\, California\, 92646\, United States;X-APPLE-RADIUS=100;X-
 TITLE=Huntington State Beach:geo:33.639701,-117.974289
END:VEVENT
BEGIN:VTIMEZONE
TZID:America/Detroit
X-LIC-LOCATION:America/Detroit
BEGIN:DAYLIGHT
DTSTART:20240310T030000
TZOFFSETFROM:-0500
TZOFFSETTO:-0400
TZNAME:EDT
END:DAYLIGHT
END:VTIMEZONE
END:VCALENDAR