BEGIN:VCALENDAR
VERSION:2.0
PRODID:-//wp-events-plugin.com//7.2.3.1//EN
TZID:America/Detroit
X-WR-TIMEZONE:America/Detroit
BEGIN:VEVENT
UID:34073@arabamerica.com
DTSTART;TZID=America/Detroit:20250302T190000
DTEND;TZID=America/Detroit:20250302T220000
DTSTAMP:20250218T184709Z
URL:https://www.arabamerica.com/events/iftar-at-muslim-community-mosque-is
 lamic-cultural-association/
SUMMARY:Iftar at Muslim Community Mosque/Islamic Cultural Association
DESCRIPTION:Farmington Hills\, MI\n\n&nbsp\;\n\nPlease join us for iftar at
  the Muslim Community Mosque/Islamic Cultural Association on Sunday\, Marc
 h 2nd\, 2025. To save your spot\, purchase your tickets today by debit/cre
 dit card\, (Not PayPal). Free babysitting will be available.\n\nJoin us f
 or a heartfelt evening of generosity and compassion. As we break our fast\
 , we invite you to support a cause close to our hearts — delivering much
 -needed medical relief to the people of Syria. Let’s come together to of
 fer hope\, healing\, and humanity to those in need. Your presence and supp
 ort can change lives.\n\nPlease try to arrive at least 15 minutes before t
 he iftar to ensure proper seating and table setup. For questions\, please 
 email info@sams-usa.net. Thank you.\n\nSAMS would like to express its sinc
 ere thanks to the Muslim Community Mosque for partnering with us to hold t
 his fundraising event.\n\nSyrian American Medical Society Foundation\n\nww
 w.sams-usa.net
ATTACH;FMTTYPE=image/jpeg:https://www.arabamerica.com/wp-content/uploads/2
 025/02/ueuueufue.png
CATEGORIES:#arabic,Arab,Arab Ameircan Event,Arab American,Discussion,Food
LOCATION:Muslim Community Mosque: Home of the Islamic Cultural Association\
 , 35700 West 12 Mile Road\, Farmington Hills\, MI\, 48331\, United States
GEO:42.498886;-83.401119
X-APPLE-STRUCTURED-LOCATION;VALUE=URI;X-ADDRESS=35700 West 12 Mile Road\, F
 armington Hills\, MI\, 48331\, United States;X-APPLE-RADIUS=100;X-TITLE=Mu
 slim Community Mosque: Home of the Islamic Cultural Association:geo:42.498
 886,-83.401119
END:VEVENT
BEGIN:VTIMEZONE
TZID:America/Detroit
X-LIC-LOCATION:America/Detroit
BEGIN:STANDARD
DTSTART:20241103T010000
TZOFFSETFROM:-0400
TZOFFSETTO:-0500
TZNAME:EST
END:STANDARD
END:VTIMEZONE
END:VCALENDAR