BEGIN:VCALENDAR
VERSION:2.0
PRODID:-//wp-events-plugin.com//7.2.3.1//EN
TZID:America/Detroit
X-WR-TIMEZONE:America/Detroit
BEGIN:VEVENT
UID:32483@arabamerica.com
DTSTART;TZID=America/Detroit:20240323T180000
DTEND;TZID=America/Detroit:20240323T193000
DTSTAMP:20240318T134528Z
URL:https://www.arabamerica.com/events/iftar-dinner-breaking-bread-buildin
 g-bridges/
SUMMARY:Iftar Dinner - Breaking Bread\, Building Bridges
DESCRIPTION:&nbsp\;\n\n[caption id="attachment_246445" align="alignnone" wi
 dth="300"] Breaking Bread\, Building Bridges Promotional Poster[/caption]\
 n\n&nbsp\;\n\nMONROE\, WASHINGTON\n\nJoin us at the local mosque as we com
 e together to break our fast during the holy month of Ramadan. In a spirit
  of unity and understanding\, we invite members of the local community\, i
 rrespective of faith\, to join us for an evening of dialogue and fellowshi
 p. Our theme for the event is "Building Peace Together\," where we will en
 gage in discussions on fostering harmony and cooperation among all people.
 \n\nGuests will have the opportunity to share their perspectives on achiev
 ing world peace\, while enjoying a delicious dinner following the breaking
  of the fast. You will hear from elected officials\, community members\, a
 nd our Imam\, who will offer insights on living harmoniously and creating 
 a peaceful world.\n\nFor those curious about fasting\, we welcome you to j
 oin us in experiencing this sacred tradition. Our community will gladly gu
 ide you through the process\, allowing us to fast together in solidarity. 
 Let us come together\, learn from one another\, and work towards a future 
 of peace and understanding.
ATTACH;FMTTYPE=image/jpeg:https://www.arabamerica.com/wp-content/uploads/2
 024/03/Breaking-Bread-Building-Bridges-Promotional-Poster-.png
END:VEVENT
BEGIN:VTIMEZONE
TZID:America/Detroit
X-LIC-LOCATION:America/Detroit
BEGIN:DAYLIGHT
DTSTART:20240310T030000
TZOFFSETFROM:-0500
TZOFFSETTO:-0400
TZNAME:EDT
END:DAYLIGHT
END:VTIMEZONE
END:VCALENDAR