BEGIN:VCALENDAR
VERSION:2.0
PRODID:-//wp-events-plugin.com//7.2.3.1//EN
TZID:America/Detroit
X-WR-TIMEZONE:America/Detroit
BEGIN:VEVENT
UID:32360@arabamerica.com
DTSTART;TZID=America/Detroit:20240329T190000
DTEND;TZID=America/Detroit:20240329T220000
DTSTAMP:20240304T123405Z
URL:https://www.arabamerica.com/events/iftar-for-palestine-2/
SUMMARY:IFTAR FOR PALESTINE
DESCRIPTION:Virgina.\n\n\n\nCome join us for iftar March 29th in our commun
 ities' efforts to help Palestinian children with special needs. 100% of al
 l ticket sales and additional donations will be donated to support this ca
 use.\n\nWe strongly believe that every child has the right to protection\,
  good education\, healthcare and well-being. The unsettled political\, soc
 ial\, emotional\, economic and environmental conditions in Palestine have 
 deprived many children\, especially those with special needs\, of these ri
 ghts. Our mission with this event is to promote the welfare and well-being
  of the young children being affected.With the genecide happening Ghaza th
 ese children need assistants more than ever.\n\nOur iftar is 100% authenti
 c Palestinian Cuisine. We can't wait for you to join us at our special ift
 ar.\n\n\n\n\n\n\n\n
ATTACH;FMTTYPE=image/jpeg:https://www.arabamerica.com/wp-content/uploads/2
 024/03/https___cdn.evbuc_.com_images_708018449_2033208534063_1_original.jp
 eg
CATEGORIES:Community,culture
LOCATION:Detour Coffee\, 946 North Jackson Street\, Arlington\, VA\, 22201\
 , United States
GEO:38.884055;-77.099636
X-APPLE-STRUCTURED-LOCATION;VALUE=URI;X-ADDRESS=946 North Jackson Street\, 
 Arlington\, VA\, 22201\, United States;X-APPLE-RADIUS=100;X-TITLE=Detour C
 offee:geo:38.884055,-77.099636
END:VEVENT
BEGIN:VTIMEZONE
TZID:America/Detroit
X-LIC-LOCATION:America/Detroit
BEGIN:DAYLIGHT
DTSTART:20240310T030000
TZOFFSETFROM:-0500
TZOFFSETTO:-0400
TZNAME:EDT
END:DAYLIGHT
END:VTIMEZONE
END:VCALENDAR