BEGIN:VCALENDAR
VERSION:2.0
PRODID:-//wp-events-plugin.com//7.2.3.1//EN
TZID:America/Detroit
X-WR-TIMEZONE:America/Detroit
BEGIN:VEVENT
UID:32382@arabamerica.com
DTSTART;TZID=America/Detroit:20240329T190000
DTEND;TZID=America/Detroit:20240329T220000
DTSTAMP:20240304T201648Z
URL:https://www.arabamerica.com/events/iftar-for-palestine-3/
SUMMARY:Iftar For Palestine
DESCRIPTION:&nbsp\;\n\n[caption id="attachment_245795" align="alignnone" wi
 dth="300"] Iftar for Palestine's promotional poster[/caption]\n\n&nbsp\;\n
 \nARLINGTON\, VIRGINIA\n\nCome join us for iftar March 29th in our communi
 ties' efforts to help Palestinian children with special needs. 100% of all
  ticket sales and additional donations will be donated to support this cau
 se.\n\nWe strongly believe that every child has the right to protection\, 
 good education\, healthcare and well-being. The unsettled political\, soci
 al\, emotional\, economic and environmental conditions in Palestine have d
 eprived many children\, especially those with special needs\, of these rig
 hts. Our mission with this event is to promote the welfare and well-being 
 of the young children being affected.With the genecide happening Ghaza the
 se children need assistants more than ever.\n\nOur iftar is 100% authentic
  Palestinian Cuisine. We can't wait for you to join us at our special ifta
 r.
ATTACH;FMTTYPE=image/jpeg:https://www.arabamerica.com/wp-content/uploads/2
 024/03/Iftar-for-Palestines-promotional-poster-.png
END:VEVENT
BEGIN:VTIMEZONE
TZID:America/Detroit
X-LIC-LOCATION:America/Detroit
BEGIN:DAYLIGHT
DTSTART:20240310T030000
TZOFFSETFROM:-0500
TZOFFSETTO:-0400
TZNAME:EDT
END:DAYLIGHT
END:VTIMEZONE
END:VCALENDAR