BEGIN:VCALENDAR
VERSION:2.0
PRODID:-//wp-events-plugin.com//7.2.3.1//EN
TZID:America/Detroit
X-WR-TIMEZONE:America/Detroit
BEGIN:VEVENT
UID:35883@arabamerica.com
DTSTART;TZID=America/Detroit:20260313T190000
DTEND;TZID=America/Detroit:20260313T220000
DTSTAMP:20260217T185256Z
URL:https://www.arabamerica.com/events/iftar-for-palestine-5/
SUMMARY:Iftar for Palestine
DESCRIPTION:Arlington\, VA\n\n\n\nCelebrate Iftar with a good cause.\n\n\n\
 n\n\n\nJoin us for the 5th Annual Iftar for Palestine at Detour Coffee. Th
 is special evening is about coming together as a community to support chil
 dren in need in Palestine\, with 100% of proceeds going directly to aid ef
 forts.\n\nOur family is honored to prepare an authentic Palestinian Iftar 
 meal\, and we invite you to share in this meaningful night of giving.\n\nB
 uy tickets or donate through our website—every contribution\, big or sma
 ll\, makes a difference. Whether you join us for Iftar or simply give what
  you can\, your support helps provide hope and care where it’s needed mo
 st.\n\n\n
ATTACH;FMTTYPE=image/jpeg:https://www.arabamerica.com/wp-content/uploads/2
 026/02/image-10-2.webp
LOCATION:Detour Coffee\, 946 North Jackson Street\, Arlington\, VA\, 22201\
 , United States
GEO:38.884055;-77.099636
X-APPLE-STRUCTURED-LOCATION;VALUE=URI;X-ADDRESS=946 North Jackson Street\, 
 Arlington\, VA\, 22201\, United States;X-APPLE-RADIUS=100;X-TITLE=Detour C
 offee:geo:38.884055,-77.099636
END:VEVENT
BEGIN:VTIMEZONE
TZID:America/Detroit
X-LIC-LOCATION:America/Detroit
BEGIN:DAYLIGHT
DTSTART:20260308T030000
TZOFFSETFROM:-0500
TZOFFSETTO:-0400
TZNAME:EDT
END:DAYLIGHT
END:VTIMEZONE
END:VCALENDAR