BEGIN:VCALENDAR
VERSION:2.0
PRODID:-//wp-events-plugin.com//7.2.3.1//EN
TZID:America/Detroit
X-WR-TIMEZONE:America/Detroit
BEGIN:VEVENT
UID:35896@arabamerica.com
DTSTART;TZID=America/Detroit:20260227T173000
DTEND;TZID=America/Detroit:20260227T200000
DTSTAMP:20260219T204309Z
URL:https://www.arabamerica.com/events/iftar-fundraiser-for-americans-for-
 palestinian-orphans/
SUMMARY:Iftar Fundraiser for Americans for Palestinian Orphans
DESCRIPTION:Join Us for an Iftar Fundraiser! Come together for a special ev
 ening at our in-person Iftar Fundraiser supporting Americans for Palestini
 an Orphans. Enjoy good company\, delicious food\, and a heartwarming cause
 . Let’s break the fast and make a difference together!
ATTACH;FMTTYPE=image/jpeg:https://www.arabamerica.com/wp-content/uploads/2
 026/02/image-28.webp
CATEGORIES:Charity,Palestinian Children
LOCATION:Dar Alhurriya\, 650 Pennsylvania Ave SE  Ste 50\, Washington\, DC\
 , 20003\, United States
GEO:38.885272;-76.99699
X-APPLE-STRUCTURED-LOCATION;VALUE=URI;X-ADDRESS=650 Pennsylvania Ave SE  St
 e 50\, Washington\, DC\, 20003\, United States;X-APPLE-RADIUS=100;X-TITLE=
 Dar Alhurriya:geo:38.885272,-76.99699
END:VEVENT
BEGIN:VTIMEZONE
TZID:America/Detroit
X-LIC-LOCATION:America/Detroit
BEGIN:STANDARD
DTSTART:20251102T010000
TZOFFSETFROM:-0400
TZOFFSETTO:-0500
TZNAME:EST
END:STANDARD
END:VTIMEZONE
END:VCALENDAR