BEGIN:VCALENDAR
VERSION:2.0
PRODID:-//wp-events-plugin.com//7.2.3.1//EN
TZID:America/Detroit
X-WR-TIMEZONE:America/Detroit
BEGIN:VEVENT
UID:35667@arabamerica.com
DTSTART;TZID=America/Denver:20260316T180000
DTEND;TZID=America/Denver:20260316T220000
DTSTAMP:20260107T014211Z
URL:https://www.arabamerica.com/events/iftar-reception-law-offices-of-tare
 k-fahmy/
SUMMARY:Iftar Reception – Law Offices of Tarek Fahmy
DESCRIPTION:An evening of Ramadan fellowship as we gather to break fast tog
 ether in the spirit of community and reflection.
ATTACH;FMTTYPE=image/jpeg:https://www.arabamerica.com/wp-content/uploads/2
 026/01/https___cdn.evbuc_.com_images_1173464846_282994207126_1_original.jp
 g
CATEGORIES:Islam,Islam Faith,Ramadan
LOCATION:Arab American Cultural Community\, 10555 Stancliff Road\, Houston\
 , Texas\, 77099\, United States
GEO:29.6564208;-95.56604440000001
X-APPLE-STRUCTURED-LOCATION;VALUE=URI;X-ADDRESS=10555 Stancliff Road\, Hous
 ton\, Texas\, 77099\, United States;X-APPLE-RADIUS=100;X-TITLE=Arab Americ
 an Cultural Community:geo:29.6564208,-95.56604440000001
END:VEVENT
BEGIN:VTIMEZONE
TZID:America/Denver
X-LIC-LOCATION:America/Denver
BEGIN:DAYLIGHT
DTSTART:20260308T030000
TZOFFSETFROM:-0700
TZOFFSETTO:-0600
TZNAME:MDT
END:DAYLIGHT
END:VTIMEZONE
END:VCALENDAR