BEGIN:VCALENDAR
VERSION:2.0
PRODID:-//wp-events-plugin.com//7.2.3.1//EN
TZID:America/Detroit
X-WR-TIMEZONE:America/Detroit
BEGIN:VEVENT
UID:32394@arabamerica.com
DTSTART;TZID=America/Detroit:20240316T183000
DTEND;TZID=America/Detroit:20240316T220000
DTSTAMP:20240305T025139Z
URL:https://www.arabamerica.com/events/ilc-fundraiser-iftar-at-alhuda/
SUMMARY:ILC Fundraiser Iftar at Alhuda
DESCRIPTION:&nbsp\;\n\n[caption id="attachment_245828" align="alignnone" wi
 dth="300"] Islamic Life Center Fundraiser's Promotional Poster[/caption]\n
 \nFISHERS\, INDIANA\n\nPlease join the Al Salam Foundation as Alhuda has g
 raciously opened its doors for the Islamic Life Center Fundraiser Iftar. P
 lease note\, spaces are limited and registration is required. This event i
 s encouraging the surrounding communities to come together and open our fa
 sts together\, while raising funds for the Islamic Life Center's construct
 ion project.
ATTACH;FMTTYPE=image/jpeg:https://www.arabamerica.com/wp-content/uploads/2
 024/03/Islamic-Life-Center-Fundraiser-Promotional-Poster-.png
LOCATION:Alhuda Foundation\, 12201 Lantern Rd\, Fishers\, Indiana\, 46038\,
  United States
GEO:39.9645881;-86.0127114
X-APPLE-STRUCTURED-LOCATION;VALUE=URI;X-ADDRESS=12201 Lantern Rd\, Fishers\
 , Indiana\, 46038\, United States;X-APPLE-RADIUS=100;X-TITLE=Alhuda Founda
 tion:geo:39.9645881,-86.0127114
END:VEVENT
BEGIN:VTIMEZONE
TZID:America/Detroit
X-LIC-LOCATION:America/Detroit
BEGIN:DAYLIGHT
DTSTART:20240310T030000
TZOFFSETFROM:-0500
TZOFFSETTO:-0400
TZNAME:EDT
END:DAYLIGHT
END:VTIMEZONE
END:VCALENDAR