BEGIN:VCALENDAR
VERSION:2.0
PRODID:-//wp-events-plugin.com//7.2.3.1//EN
TZID:America/Detroit
X-WR-TIMEZONE:America/Detroit
BEGIN:VEVENT
UID:34105@arabamerica.com
DTSTART;TZID=America/Detroit:20250319T183000
DTEND;TZID=America/Detroit:20250319T210000
DTSTAMP:20250227T153022Z
URL:https://www.arabamerica.com/events/ilms-second-annual-iftar/
SUMMARY:Ilm's Second Annual Iftar
DESCRIPTION:We'll have an inspiring speaker\, delicious food\, and a chance
  to connect with others. All donations will go toward rebuilding a school 
 in Gaza. Let's come together to reflect\, support one another\, and make a
  difference.\n\nEveryone is welcome to attend\, so bring your family and f
 riends and come join us!!
LOCATION:University Center (Kochoff Halls)\, 4901 Evergreen Road\, Dearborn
 \, MI\, 48128. \, United States
GEO:42.31729;-83.231132
X-APPLE-STRUCTURED-LOCATION;VALUE=URI;X-ADDRESS=4901 Evergreen Road\, Dearb
 orn\, MI\, 48128. \, United States;X-APPLE-RADIUS=100;X-TITLE=University C
 enter (Kochoff Halls):geo:42.31729,-83.231132
END:VEVENT
BEGIN:VTIMEZONE
TZID:America/Detroit
X-LIC-LOCATION:America/Detroit
BEGIN:DAYLIGHT
DTSTART:20250309T030000
TZOFFSETFROM:-0500
TZOFFSETTO:-0400
TZNAME:EDT
END:DAYLIGHT
END:VTIMEZONE
END:VCALENDAR