BEGIN:VCALENDAR
VERSION:2.0
PRODID:-//wp-events-plugin.com//7.2.3.1//EN
TZID:America/Detroit
X-WR-TIMEZONE:America/Detroit
BEGIN:VEVENT
UID:35450@arabamerica.com
DTSTART;TZID=America/Detroit:20251204T120000
DTEND;TZID=America/Detroit:20251204T140000
DTSTAMP:20251119T124815Z
URL:https://www.arabamerica.com/events/iman-the-most-beautiful-stories-fai
 th-arts-activism/
SUMMARY:IMAN & The Most Beautiful Stories: Faith\, Arts & Activism
DESCRIPTION:CHICAGO\, IL\n\n\n\nJoin us to experience the Inspired Generosi
 ty storytelling showcase and impactful panel discussion at Impact House.\n
 \n\n\n\nBuilding and Registration Info\n\n 	You will need to RSVP to ensur
 e your name is on the list of attendees given to the building. EACH ATTEND
 EE NEEDS A TICKET IN ORDER FOR THE BUILDING TO VERIFY YOUR ENTRY.\n 	Upon 
 checking in\, you will be escorted to the elevator and sent up to the Impa
 ct House 2nd/3rd floor\n\nAbout Inspired Generosity\n\nBrought to you by t
 he WF Fund\, Inspired Generosity: Muslim American Stories in Philanthropy\
 , provides a national stage for powerful stories of generosity from the Mu
 slim American community—spotlighting tales of spirituality driven good w
 orks.\n\nWe invite you to view our stories\, engaging in a collective expe
 rience that affirms how faith can nurture care for all people.\n\nPanel Di
 scussion\n\nJoin us for the final Inspired Generosity Chicago event! This 
 event will explore organizing\, community change and the role of art and s
 acred meaning making in the face of dark and challenging times.\n\nParking
  &amp\; Transportation\n\n 	Street parking and parking garages are availab
 le nearby the Impact House\n 	Public transportation is highly recommended\
 n\nBuilding and Registration Info\n\n 	You will need to RSVP to ensure you
 r name is on the list of attendees given to the building.\n 	Upon checking
  in\, you will be escorted to the elevator and sent up to the Impact House
  2nd/3rd floor\n\nSnacks will be served\n\nTHANK YOU TO OUR SPONSORS\n\n\n
ATTACH;FMTTYPE=image/jpeg:https://www.arabamerica.com/wp-content/uploads/2
 025/11/https-cdn.evbuc_.com-images-1171212433-2762572324201-1-original.202
 51118-045322.jpeg
LOCATION:Impact House\, 200 West Madison Street\, Chicago\, IL\, 60606\, Un
 ited States
GEO:41.882359;-87.634316
X-APPLE-STRUCTURED-LOCATION;VALUE=URI;X-ADDRESS=200 West Madison Street\, C
 hicago\, IL\, 60606\, United States;X-APPLE-RADIUS=100;X-TITLE=Impact Hous
 e:geo:41.882359,-87.634316
END:VEVENT
BEGIN:VTIMEZONE
TZID:America/Detroit
X-LIC-LOCATION:America/Detroit
BEGIN:STANDARD
DTSTART:20251102T010000
TZOFFSETFROM:-0400
TZOFFSETTO:-0500
TZNAME:EST
END:STANDARD
END:VTIMEZONE
END:VCALENDAR