BEGIN:VCALENDAR
VERSION:2.0
PRODID:-//wp-events-plugin.com//7.2.3.1//EN
TZID:America/Detroit
X-WR-TIMEZONE:America/Detroit
BEGIN:VEVENT
UID:35457@arabamerica.com
DTSTART;TZID=America/Detroit:20251218T183000
DTEND;TZID=America/Detroit:20251218T183000
DTSTAMP:20251124T153248Z
URL:https://www.arabamerica.com/events/in-person-class-mediterranean-mezze
 -making-class-dc/
SUMMARY:In-Person Class: Mediterranean Mezze Making Class (DC)
DESCRIPTION:NATIONAL HARBOR\, MD\n\n\n\n\n\n\nMediterranean Mezze Making Cl
 ass: Hummus\, Falafel &amp\; Tabouleh\n\n\n\n
ATTACH;FMTTYPE=image/jpeg:https://www.arabamerica.com/wp-content/uploads/2
 025/11/https-cdn.evbuc_.com-images-1152725343-79175508931-1-original.20251
 014-112717.jpeg
LOCATION:Hyatt Place National Harbor\, 123 Waterfront Street\, National Har
 bor\, MD\, 20745\, United States
GEO:38.785688;-77.015817
X-APPLE-STRUCTURED-LOCATION;VALUE=URI;X-ADDRESS=123 Waterfront Street\, Nat
 ional Harbor\, MD\, 20745\, United States;X-APPLE-RADIUS=100;X-TITLE=Hyatt
  Place National Harbor:geo:38.785688,-77.015817
END:VEVENT
BEGIN:VTIMEZONE
TZID:America/Detroit
X-LIC-LOCATION:America/Detroit
BEGIN:STANDARD
DTSTART:20251102T010000
TZOFFSETFROM:-0400
TZOFFSETTO:-0500
TZNAME:EST
END:STANDARD
END:VTIMEZONE
END:VCALENDAR