BEGIN:VCALENDAR
VERSION:2.0
PRODID:-//wp-events-plugin.com//7.2.3.1//EN
TZID:America/Detroit
X-WR-TIMEZONE:America/Detroit
BEGIN:VEVENT
UID:31411@arabamerica.com
DTSTART;TZID=America/Detroit:20230808T183000
DTEND;TZID=America/Detroit:20230808T203000
DTSTAMP:20230718T141811Z
URL:https://www.arabamerica.com/events/in-person-vegan-mediterranean-leban
 ese-cooking-class/
SUMMARY:In Person Vegan Mediterranean/ Lebanese Cooking Class
DESCRIPTION:"In Person Vegan Mediterranean/ Lebanese cooking class\nVegan M
 editerranean/ Lebanese cooking class\n\nAbout this Event\n\nJoin us to exp
 erience how to cook traditional Lebanese food. Haft of my family is Lebane
 se and we have been cooking these type of food weekly. I would love to sha
 re with you healthy and easy ways to eat this delicious food.\n\nWe will l
 earn:\n\nFalafel (air fried and pan fried)\nTabbouleh\nTahini sauce\nThe c
 lass will be done at CB Health and Wellness Center on August 8th at 6:30pm
 .CB Health &amp\; Wellness center is located at 305 East 119th street\, NY
  NY 10035\n\nThere are 7 tables\, and each table will be cooking all the r
 ecipes of the class.\n\nThe teacher will be cooking and showing you all th
 e steps to create the perfect meal and you will following the same steps.\
 n\nOnce we all finish\, we will be tasting our creations and talking about
  our experience.\n\nIt is suggested that you bring a small container to ta
 ke home some of the leftovers... there are always leftovers!\n\nAfter all 
 the recipes are done everybody will be tasting the recipes they made and t
 alking about their experience\n\nAn evening to spend with friends and to h
 ave a great time after work. Space is limited to up to 7 people.\n\nThere 
 will also be gloves \, alcohol and antibacterial soap.\n\nI promise you wi
 ll have a great experience and taste a great dish.\n\nSee you soon!"
ATTACH;FMTTYPE=image/jpeg:https://www.arabamerica.com/wp-content/uploads/2
 023/07/In-Person-Vegan.jpeg
CATEGORIES:Cooking Class,culture,Food,lebanese
LOCATION:CB Health & Wellness Center\, 305 East 119th Street\, New York\, N
 Y\, United States
GEO:40.798912;-73.93581
X-APPLE-STRUCTURED-LOCATION;VALUE=URI;X-ADDRESS=305 East 119th Street\, New
  York\, NY\, United States;X-APPLE-RADIUS=100;X-TITLE=CB Health & Wellness
  Center:geo:40.798912,-73.93581
END:VEVENT
BEGIN:VTIMEZONE
TZID:America/Detroit
X-LIC-LOCATION:America/Detroit
BEGIN:DAYLIGHT
DTSTART:20230312T030000
TZOFFSETFROM:-0500
TZOFFSETTO:-0400
TZNAME:EDT
END:DAYLIGHT
END:VTIMEZONE
END:VCALENDAR