BEGIN:VCALENDAR
VERSION:2.0
PRODID:-//wp-events-plugin.com//7.2.3.1//EN
TZID:America/Detroit
X-WR-TIMEZONE:America/Detroit
BEGIN:VEVENT
UID:31009@arabamerica.com
DTSTART;TZID=America/Detroit:20230520T080000
DTEND;TZID=America/Detroit:20230521T160000
DTSTAMP:20230510T173518Z
URL:https://www.arabamerica.com/events/inaugural-conference-for-wealth-tax
 -club-arab-american-investment-fund-2/
SUMMARY:Inaugural Conference for Wealth & Tax Club & Arab American Investme
 nt Fund
DESCRIPTION:\nOak Brook\, IL\n\n\n\n\nPlease join us for the first In-Perso
 n meeting of the Wealth and Tax Club! The event will be held in Chicago on
  May 20th and 21st.\n\nPlease RSVP for the Event by Paying for the Ticket.
 \n\nFor more information\, please email:\n\nDr Tarek Kteleh @Tarek.ktela@g
 mail.com /\n\nMohamad Alzoubi @malzoubi2010@gmail.com /\n\nPeyton Watson @
 peyton.watson@rocindy.com /\n\n&nbsp\;\n\nTimes for the Event are to be de
 termined.\n\n\n\n\n\n\n\n\n\n
ATTACH;FMTTYPE=image/jpeg:https://www.arabamerica.com/wp-content/uploads/2
 023/05/Screen-Shot-2023-05-10-at-1.30.25-PM.png
CATEGORIES:Conference
LOCATION:Hilton Chicago/Oak Brook Hills Resort & Conference Center\, 3500 M
 idwest Road\, Oak Brook\, IL\, 60523\, United States
GEO:41.820993;-87.971189
X-APPLE-STRUCTURED-LOCATION;VALUE=URI;X-ADDRESS=3500 Midwest Road\, Oak Bro
 ok\, IL\, 60523\, United States;X-APPLE-RADIUS=100;X-TITLE=Hilton Chicago/
 Oak Brook Hills Resort & Conference Center:geo:41.820993,-87.971189
END:VEVENT
BEGIN:VTIMEZONE
TZID:America/Detroit
X-LIC-LOCATION:America/Detroit
BEGIN:DAYLIGHT
DTSTART:20230312T030000
TZOFFSETFROM:-0500
TZOFFSETTO:-0400
TZNAME:EDT
END:DAYLIGHT
END:VTIMEZONE
END:VCALENDAR