BEGIN:VCALENDAR
VERSION:2.0
PRODID:-//wp-events-plugin.com//7.2.3.1//EN
TZID:America/Detroit
X-WR-TIMEZONE:America/Detroit
BEGIN:VEVENT
UID:34106@arabamerica.com
DTSTART;TZID=America/Detroit:20250426T180000
DTEND;TZID=America/Detroit:20250426T230000
DTSTAMP:20250227T153747Z
URL:https://www.arabamerica.com/events/inaugural-scholarship-gala-2025/
SUMMARY:Inaugural Scholarship Gala 2025
DESCRIPTION:The Arab American Bar Association Scholarship Foundation is ded
 icated to supporting aspiring lawyers by providing essential resources for
  academic and professional success. Rooted in the belief that education is
  the cornerstone of empowerment\, our Foundation is committed to bridging 
 the gap between ambition and achievement by offering scholarships to our m
 embers and advancing justice for all.\n\nThe Arab American Bar Scholarship
  Foundation\, a 501(c)(3) organization\, needs your support in its charita
 ble mission. We are committed to ensuring that future generations have the
  opportunity to enrich the legal profession and serve our community. Contr
 ibutions to the Arab American Bar Scholarship Foundation are deductible fo
 r income tax purposes to the extent permitted by law.
LOCATION:Chicago Marriott Oak Brook\, 1401 West 22nd Street\, Oak Brook \, 
 IL\, 60523\, United States
GEO:41.84593;-87.952863
X-APPLE-STRUCTURED-LOCATION;VALUE=URI;X-ADDRESS=1401 West 22nd Street\, Oak
  Brook \, IL\, 60523\, United States;X-APPLE-RADIUS=100;X-TITLE=Chicago Ma
 rriott Oak Brook:geo:41.84593,-87.952863
END:VEVENT
BEGIN:VTIMEZONE
TZID:America/Detroit
X-LIC-LOCATION:America/Detroit
BEGIN:DAYLIGHT
DTSTART:20250309T030000
TZOFFSETFROM:-0500
TZOFFSETTO:-0400
TZNAME:EDT
END:DAYLIGHT
END:VTIMEZONE
END:VCALENDAR