BEGIN:VCALENDAR
VERSION:2.0
PRODID:-//wp-events-plugin.com//7.2.3.1//EN
TZID:America/Detroit
X-WR-TIMEZONE:America/Detroit
BEGIN:VEVENT
UID:36221@arabamerica.com
DTSTART;TZID=America/Detroit:20260505T190000
DTEND;TZID=America/Detroit:20260505T213000
DTSTAMP:20260421T162247Z
URL:https://www.arabamerica.com/events/inside-gaza-screening-and-discussio
 n/
SUMMARY:"Inside Gaza" Screening and Discussion
DESCRIPTION:\n\n\nA landmark documentary by Hélène Lam Trong\, followed b
 y a panel discussion on freedom of the press in warzones.\n\n\n\n\n\n\nLa 
 Maison Française is honored to host a screening of Inside Gaza by Hél
 ène Lam Trong. This compelling film follows the experiences of AFP’s pe
 rmanent reporting team in Gaza\, whose members have watched\, filmed\, pho
 tographed and testified to the conflict from the inside\, all while strugg
 ling to ensure their own survival. It will be followed by a discussion wit
 h Director Lam Trong and producer Yann Olivier (Head of Documentary at AFP
  DOCS)\, moderated by Clayton Weimers (Executive Director of RSF USA)\, as
  well as a Q&amp\;A session.\n\nInside Gaza (72 minutes):\n\nInside Gaza 
 offers a rare and unique insider’s view on the challenges of reporting f
 rom Gaza.\n\nSince 7 October 2023\, when the territory became largely off
 ‑limits to the media\, Agence France‑Presse journalists permanently on
  the ground were among the few independent witnesses to Israel’s respons
 e to the Hamas attack. Inside Gaza captures not only what happened\, but
  also the personal struggles of journalists risking their lives to inform 
 the world and confront the ethical\, physical and emotional toll of coveri
 ng a conflict few others could see. A compelling\, first-hand account of t
 he fight to keep journalism alive in the face of siege and silence.\n\nIn 
 a unique storytelling approach\, Director Hélène Lam Trong collaborates 
 directly with the protagonists - the journalists who recorded the footage 
 in Gaza. The documentary blends this primary footage of the conflict zone 
 with additional material\, recorded since the journalists’ evacuation\, 
 as they seek to rebuild their lives in the UK\, Egypt\, France\, and Belgi
 um.\n\nIMPORTANT INFORMATION:\n\n- The doors will open at 6.30PM. Please a
 llow extra time for security check-in.\n\n- You will need a valid photo ID
  and your Eventbrite ticket (printed or ready on your phone). Please remem
 ber that for security purposes the name on the ticket must match the name 
 on the ID. If you have not entered the names of your plus ones\, you can s
 till edit your ticket directly on Eventbrite on your computer.\n\n- There 
 will be no on-site parking. Limited street parking available on Reservoir 
 Road. We encourage you to use taxi\, ridesharing or public transportation.
 \n\n- Please be advised that for security reasons\, Embassy staff and secu
 rity services cannot allow large bags\, umbrellas or backpacks\, or bike h
 elmets to be brought onto Embassy grounds. The security team reserves itse
 lf the right to confiscate any items not appropriate\n\n\n
ATTACH;FMTTYPE=image/jpeg:https://www.arabamerica.com/wp-content/uploads/2
 026/04/image-62.webp
CATEGORIES:Community,culture
LOCATION:La Maison Française\, 4101 Reservoir Rd.\, NW\, Washington\, DC 2
 0007\, United States
GEO:38.913688;-77.078953
X-APPLE-STRUCTURED-LOCATION;VALUE=URI;X-ADDRESS=4101 Reservoir Rd.\, NW\, W
 ashington\, DC 20007\, United States;X-APPLE-RADIUS=100;X-TITLE=La Maison 
 Française:geo:38.913688,-77.078953
END:VEVENT
BEGIN:VTIMEZONE
TZID:America/Detroit
X-LIC-LOCATION:America/Detroit
BEGIN:DAYLIGHT
DTSTART:20260308T030000
TZOFFSETFROM:-0500
TZOFFSETTO:-0400
TZNAME:EDT
END:DAYLIGHT
END:VTIMEZONE
END:VCALENDAR