BEGIN:VCALENDAR
VERSION:2.0
PRODID:-//wp-events-plugin.com//7.2.3.1//EN
TZID:America/Detroit
X-WR-TIMEZONE:America/Detroit
BEGIN:VEVENT
UID:32390@arabamerica.com
DTSTART;TZID=America/Detroit:20240317T171500
DTEND;TZID=America/Detroit:20240317T200000
DTSTAMP:20240305T015733Z
URL:https://www.arabamerica.com/events/interfaith-ramadan-iftar/
SUMMARY:Interfaith Ramadan Iftar
DESCRIPTION:[caption id="attachment_245819" align="alignnone" width="300"] 
 Interfaith Ramadan Iftar Event's promotional poster[/caption]\n\n&nbsp\;\n
 \nMONROE TOWNSHIP\, NEW JERSEY\n\nPlease join us for an Iftar dinner exper
 ience as we observe the holy month of Ramadan and help create a peaceful a
 nd harmonious society by building new relationships across all faiths.\n\n
 Iftar means 'fast-breaking and it is an integral part of the Muslim commun
 ity life during the sacred month of Ramadan. Muslims break their daily Ram
 adan fast with a community dinner called an “iftar.” Please join us to
  make this a memorable evening with M4P &amp\; the Muslim community of Mon
 roe Twp and break bread together in the holy month of Ramadan! Dinner prov
 ided. RSVP required\n\nDate: Sunday\, March 17th\, 2024\n\nTime: 5:15 p.m.
  – Reception and check-in\n\n5:30 p.m. - Welcome\n\n5: 30 p.m. - Interfa
 ith religious and community leaders panel\n\n7:07 p.m.- 8:07 pm - Prayer\,
  Iftar dinner at sunset
ATTACH;FMTTYPE=image/jpeg:https://www.arabamerica.com/wp-content/uploads/2
 024/03/Interfaith-Ramada-Iftar-Event-Promotional-Poster.png
LOCATION:Monroe Senior Center\, 12 Halsey Reed Rd\, Monroe Township\, New J
 ersey\, 08831\, United States
GEO:40.287775;-74.474086
X-APPLE-STRUCTURED-LOCATION;VALUE=URI;X-ADDRESS=12 Halsey Reed Rd\, Monroe 
 Township\, New Jersey\, 08831\, United States;X-APPLE-RADIUS=100;X-TITLE=M
 onroe Senior Center:geo:40.287775,-74.474086
END:VEVENT
BEGIN:VTIMEZONE
TZID:America/Detroit
X-LIC-LOCATION:America/Detroit
BEGIN:DAYLIGHT
DTSTART:20240310T030000
TZOFFSETFROM:-0500
TZOFFSETTO:-0400
TZNAME:EDT
END:DAYLIGHT
END:VTIMEZONE
END:VCALENDAR