BEGIN:VCALENDAR
VERSION:2.0
PRODID:-//wp-events-plugin.com//7.2.3.1//EN
TZID:America/Detroit
X-WR-TIMEZONE:America/Detroit
BEGIN:VEVENT
UID:31785@arabamerica.com
DTSTART;TZID=America/Detroit:20231028T133000
DTEND;TZID=America/Detroit:20231028T150000
DTSTAMP:20231017T142515Z
URL:https://www.arabamerica.com/events/interlaced-communities-embroidery-m
 aster-class-and-stitching-circle/
SUMMARY:Interlaced Communities: Embroidery Master Class and Stitching Circl
 e
DESCRIPTION:\nLearn about Palestinian Fellahi embroidery and participate in
  a stitching circle.\n\n\n\n\n\n\n\n\nPalestinian researcher\, author and 
 teacher Wafa Ghnaim will be presenting a history of storytelling in Palest
 inian embroidery\, including a cross-stitching master class and stitching 
 circle where participants can learn\, practice\, and discuss the art to co
 nnect with their heritage and preserve the craft for future generations.\n
 \n\n\n\n\n\n\n\n\n\n
ATTACH;FMTTYPE=image/jpeg:https://www.arabamerica.com/wp-content/uploads/2
 023/10/https-cdn.evbuc_.com-images-604953509-265038115215-1-original.20230
 924-015238.jpeg
CATEGORIES:Embroidery,Palestine,Palestinian,Palestinian art,Palestinian
 Culture,Palestinian Tatreez
LOCATION:Textile Hive\, 133 SW 2nd Ave #430\, Portland\, OR\, 97204\, Unite
 d States
GEO:45.521566;-122.672906
X-APPLE-STRUCTURED-LOCATION;VALUE=URI;X-ADDRESS=133 SW 2nd Ave #430\, Portl
 and\, OR\, 97204\, United States;X-APPLE-RADIUS=100;X-TITLE=Textile Hive:g
 eo:45.521566,-122.672906
END:VEVENT
BEGIN:VTIMEZONE
TZID:America/Detroit
X-LIC-LOCATION:America/Detroit
BEGIN:DAYLIGHT
DTSTART:20230312T030000
TZOFFSETFROM:-0500
TZOFFSETTO:-0400
TZNAME:EDT
END:DAYLIGHT
END:VTIMEZONE
END:VCALENDAR