BEGIN:VCALENDAR
VERSION:2.0
PRODID:-//wp-events-plugin.com//7.2.3.1//EN
TZID:America/Detroit
X-WR-TIMEZONE:America/Detroit
BEGIN:VEVENT
UID:34297@arabamerica.com
DTSTART;TZID=America/Detroit:20250426T140000
DTEND;TZID=America/Detroit:20250426T170000
DTSTAMP:20250413T232100Z
URL:https://www.arabamerica.com/events/international-cooking-class-syrian-
 cuisine/
SUMMARY:International Cooking Class - Syrian Cuisine
DESCRIPTION:OKLAHOMA CITY\, OK\n\nInternational Cooking Class: Syrian Cuisi
 ne\n\nLocation: Raindrop Turkish House\, 4444 N Classen Blvd\, Oklahoma Ci
 ty\, OK 73118\nDate: April 26\, 2025\nTime: 2:00 PM - 5:00 PM\nTicket Pric
 e: $40\nDuration: 3 hours\n\nJoin us for an immersive culinary experience 
 as we explore the flavors of Syrian Cuisinein this demonstration-style coo
 king class at Raindrop Turkish House. Watch a skilled chef prepare traditi
 onal Syrian dishes featuring lamb and other authentic ingredients. Learn a
 bout the cultural significance of these meals and enjoy tasting the delici
 ous food at the end of the class. No hands-on cooking required – just si
 t back\, relax\, and enjoy the process.\nMenu:\n1. Shakriyeh – A creamy\
 , savory yogurt-based stew featuring tender lamb\, fragrant spices\, and a
  luscious sauce\, perfect for pairing with rice or bread.\n\n2. Malfouf Sa
 lad – A light and refreshing cabbage salad made with fresh herbs\, lemon
 \, and olive oil\, offering a zesty contrast to the richness of the main d
 ish.\n\n3. Hareeseh – A sweet\, semolina-based dessert made with sugar\,
  ghee\, and almonds. It’s a rich and fragrant treat that’s often enjoy
 ed at special occasions in Syrian households.\nWhy Attend:\n\n 	Authentic 
 Syrian Experience: Learn the secrets behind traditional Syrian dishes dire
 ctly from a skilled chef.\n 	Cultural Insight: Gain knowledge about the hi
 story\, traditions\, and stories behind each dish while enjoying a communa
 l atmosphere.\n 	Tasty Results: Watch the preparation process and enjoy ta
 sting the delicious food at the end of the class.\n 	Relaxing Environment:
  Enjoy a casual\, informative\, and engaging class in the cozy setting of 
 Raindrop Turkish House.\n\nAbout Raindrop Turkish House:\nRaindrop Turkish
  House is a cultural center dedicated to promoting understanding and conne
 ction through cultural exchange. This cooking class is just one of many wa
 ys the House brings people together to experience the beauty of diverse cu
 ltures.
ATTACH;FMTTYPE=image/jpeg:https://www.arabamerica.com/wp-content/uploads/2
 025/04/Screenshot-2025-04-13-at-7.28.28 PM.png
LOCATION:Raindrop Turkish House\, 4444 N Classen Blvd\, Oklahoma City\, OK\
 , 73118\, United States
GEO:35.516664;-97.533875
X-APPLE-STRUCTURED-LOCATION;VALUE=URI;X-ADDRESS=4444 N Classen Blvd\, Oklah
 oma City\, OK\, 73118\, United States;X-APPLE-RADIUS=100;X-TITLE=Raindrop 
 Turkish House:geo:35.516664,-97.533875
END:VEVENT
BEGIN:VTIMEZONE
TZID:America/Detroit
X-LIC-LOCATION:America/Detroit
BEGIN:DAYLIGHT
DTSTART:20250309T030000
TZOFFSETFROM:-0500
TZOFFSETTO:-0400
TZNAME:EDT
END:DAYLIGHT
END:VTIMEZONE
END:VCALENDAR