BEGIN:VCALENDAR
VERSION:2.0
PRODID:-//wp-events-plugin.com//7.2.3.1//EN
TZID:America/Detroit
X-WR-TIMEZONE:America/Detroit
BEGIN:VEVENT
UID:35023@arabamerica.com
DTSTART;TZID=America/Detroit:20250821T180000
DTEND;TZID=America/Detroit:20250821T200000
DTSTAMP:20250820T171634Z
URL:https://www.arabamerica.com/events/intl-cafe-at-revolution-brewing-on-
 kedzie/
SUMMARY:INT'L CAFE at Revolution Brewing on Kedzie
DESCRIPTION:\n\n\nCome join us for INT'L CAFE at Revolution Brewing On Kedz
 ie. A language cafe/intercambio style casual multilingual hangout. You can
  make some new friends and practice speaking a language that you are learn
 ing or already know.\n\nThere will be a table for each language requested.
  Feel free to move around to different tables if you speak multiple langua
 ges. We generally have English\, Mandarin\, American Sign Language\, Frenc
 h\, German\, Haitian Creole\, Japanese\, Korean\, Portuguese\, Spanish\, U
 krainian\, Arabic\, Cantonese\, Italian\, Vietnamese\, Thai\, and Russian.
  We can always make a table for your language upon request.\n\n\n\n\n\n\n\
 n\n\n\n\n\n\n\n\n\n\n\n\n\n\n\n\n\n\n\n\n\n\n\n\n\n\n\n\n\n\n\n\n\n\n\n\n\
 n\n\n\n\n\n\n\n\n\n\n\n\n\n\n\n\n\n\n\n\n\n
ATTACH;FMTTYPE=image/jpeg:https://www.arabamerica.com/wp-content/uploads/2
 025/08/Screenshot-2025-08-20-at-1.12.21-PM.png
LOCATION:Revolution Brewing - Brewery & Taproom\, 3340 North Kedzie Avenue\
 , Chicago\, IL\, 60618\, United States
GEO:41.942268;-87.708487
X-APPLE-STRUCTURED-LOCATION;VALUE=URI;X-ADDRESS=3340 North Kedzie Avenue\, 
 Chicago\, IL\, 60618\, United States;X-APPLE-RADIUS=100;X-TITLE=Revolution
  Brewing - Brewery & Taproom:geo:41.942268,-87.708487
END:VEVENT
BEGIN:VTIMEZONE
TZID:America/Detroit
X-LIC-LOCATION:America/Detroit
BEGIN:DAYLIGHT
DTSTART:20250309T030000
TZOFFSETFROM:-0500
TZOFFSETTO:-0400
TZNAME:EDT
END:DAYLIGHT
END:VTIMEZONE
END:VCALENDAR