BEGIN:VCALENDAR
VERSION:2.0
PRODID:-//wp-events-plugin.com//7.2.3.1//EN
TZID:America/Detroit
X-WR-TIMEZONE:America/Detroit
BEGIN:VEVENT
UID:31300@arabamerica.com
DTSTART;TZID=America/Detroit:20230710T100000
DTEND;TZID=America/Detroit:20230802T110000
DTSTAMP:20230627T033800Z
URL:https://www.arabamerica.com/events/intro-to-guided-reading-of-arabic-t
 afseer/
SUMMARY:Intro to Guided Reading of Arabic Tafseer
DESCRIPTION:Instructors : Juli Herman &amp\; Faiza Khan.\nJul 10 - Aug 2 
 • Mondays &amp\; Wednesdays • 10-11 am\nApplying mechanics of grammar 
 and sarf in reading selected Arabic tafseer without harakaat\, gaining new
  vocabulary and reading fluency.\n\nVRIC Main - Yaqeen Hall • Sisters on
 ly\n\n$60 per person • Registration link: bit.ly/guidedreadingvric\n\n
 •Pre requisites: Basic-intermediate understanding of Arabic grammar (Jum
 lah Fi’liyyah and Ismiyyah\, i’raab\, mawsoof sifah\, idhaafah\, ism i
 shaarah\, ism mawsool\, pronouns\, huroof jarr\, nasb\, naasibah\, jaazima
 h) and sarf with its conjugations.\n&nbsp\;\n\n\nYou may also like the fol
 lowing events from Valley Ranch Islamic Center:\n\n 	This month\, 21st Ju
 ne\, 05:00 pm\, Eid Hygiene Collection Drive in Irving\n 	This Wednesday\
 , 28th June\, 07:00 am\, Eid Prayer at VRIC in Irving\n 	Next Wednesday\,
  5th July\, 10:00 am\, Little M&amp\;Ms in Irving\n
ATTACH;FMTTYPE=image/jpeg:https://www.arabamerica.com/wp-content/uploads/2
 023/06/6a577e6ffaa260a96d59700c6b41cef6a902615b495638530bf96a9e5a77f30b-ri
 mg-w960-h540-gmir.jpeg
CATEGORIES:#arabic
LOCATION:Valley Ranch Islamic Center\, 351 Ranchview Drive\, Irving\, TX\, 
 United States
GEO:32.917249;-96.948089
X-APPLE-STRUCTURED-LOCATION;VALUE=URI;X-ADDRESS=351 Ranchview Drive\, Irvin
 g\, TX\, United States;X-APPLE-RADIUS=100;X-TITLE=Valley Ranch Islamic Cen
 ter:geo:32.917249,-96.948089
END:VEVENT
BEGIN:VTIMEZONE
TZID:America/Detroit
X-LIC-LOCATION:America/Detroit
BEGIN:DAYLIGHT
DTSTART:20230312T030000
TZOFFSETFROM:-0500
TZOFFSETTO:-0400
TZNAME:EDT
END:DAYLIGHT
END:VTIMEZONE
END:VCALENDAR