BEGIN:VCALENDAR
VERSION:2.0
PRODID:-//wp-events-plugin.com//7.2.3.1//EN
TZID:America/Detroit
X-WR-TIMEZONE:America/Detroit
BEGIN:VEVENT
UID:35281@arabamerica.com
DTSTART;TZID=America/Detroit:20251105T160000
DTEND;TZID=America/Detroit:20251105T180000
DTSTAMP:20251021T043736Z
URL:https://www.arabamerica.com/events/intro-to-tatreez-tatreez-circle-wor
 kshop-palestinian-embroidery/
SUMMARY:Intro to Tatreez + Tatreez Circle Workshop (Palestinian Embroidery)
DESCRIPTION:Explore the rich history and creative traditions of Palestinian
  art in this engaging workshop blending culture\, storytelling\, and techn
 ique.
ATTACH;FMTTYPE=image/jpeg:https://www.arabamerica.com/wp-content/uploads/2
 025/10/https___cdn.evbuc_.com_images_1146965963_64219299223_1_original.jpg
CATEGORIES:#arabic,Art and culture,art history,Art Workshop,Arts and
 Crafts
LOCATION:ArtWorks\, 2429 Gilbert Ave\, Cincinnati\, OH\, 45206\, United Sta
 tes
GEO:39.125215;-84.491048
X-APPLE-STRUCTURED-LOCATION;VALUE=URI;X-ADDRESS=2429 Gilbert Ave\, Cincinna
 ti\, OH\, 45206\, United States;X-APPLE-RADIUS=100;X-TITLE=ArtWorks:geo:39
 .125215,-84.491048
END:VEVENT
BEGIN:VTIMEZONE
TZID:America/Detroit
X-LIC-LOCATION:America/Detroit
BEGIN:STANDARD
DTSTART:20251102T010000
TZOFFSETFROM:-0400
TZOFFSETTO:-0500
TZNAME:EST
END:STANDARD
END:VTIMEZONE
END:VCALENDAR