BEGIN:VCALENDAR
VERSION:2.0
PRODID:-//wp-events-plugin.com//7.2.3.1//EN
TZID:America/Detroit
X-WR-TIMEZONE:America/Detroit
BEGIN:VEVENT
UID:32112@arabamerica.com
DTSTART;TZID=America/Detroit:20240204T110000
DTEND;TZID=America/Detroit:20240204T140000
DTSTAMP:20240123T081909Z
URL:https://www.arabamerica.com/events/intro-to-tatreez-workshop-with-bada
 n-collective-on-feb-4th-public/
SUMMARY:Intro to Tatreez Workshop with Badan Collective on Feb 4th (Public)
DESCRIPTION:Aurora\, Colorado. Learn the art of Palestinian Tatreez cross-s
 titching! This beginner-level workshop invites you to explore the captivat
 ing history of Tatreez.\n\nABOUT THE CLASS:\n\nThis three-hour workshop be
 gins with a 30-minute teaching portion where brief Palestinian history is 
 covered\, followed by a demo on the mechanics of cross-stitching. The rest
  of the workshop is hands-on! Students will take home their finished piece
  as a memento of the experience and the richness of Palestinian culture. T
 his event is geared towards high school students and up.\n\nIncludes a Tat
 reez Kit (stitching patterns\, needle\, thread\, Aida cloth fabric). No ne
 ed to bring anything additional to class! Have questions\, email neda.deen
 @gmail.com.\n\nABOUT BADAN COLLECTIVE:\n\nBadan is a creative design house
  and educational space that equips Palestinians of the diaspora with the a
 ccess\, tools\, and knowledge necessary to practice the tradition of tatre
 ez. With every stitch\, we mobilize a collective movement\, for ourselves 
 and future generations.
ATTACH;FMTTYPE=image/jpeg:https://www.arabamerica.com/wp-content/uploads/2
 024/01/https___cdn.evbuc_.com_images_678677759_1973560218303_1_original.jp
 eg
CATEGORIES:Arab Ameircan Event,Arab American,Community,culture
LOCATION:2nd Home Community Center\, 2990 South Peoria Street\, Aurora \, C
 olorado \, United States
GEO:39.661999;-104.846876
X-APPLE-STRUCTURED-LOCATION;VALUE=URI;X-ADDRESS=2990 South Peoria Street\, 
 Aurora \, Colorado \, United States;X-APPLE-RADIUS=100;X-TITLE=2nd Home Co
 mmunity Center:geo:39.661999,-104.846876
END:VEVENT
BEGIN:VTIMEZONE
TZID:America/Detroit
X-LIC-LOCATION:America/Detroit
BEGIN:STANDARD
DTSTART:20231105T010000
TZOFFSETFROM:-0400
TZOFFSETTO:-0500
TZNAME:EST
END:STANDARD
END:VTIMEZONE
END:VCALENDAR