BEGIN:VCALENDAR
VERSION:2.0
PRODID:-//wp-events-plugin.com//7.2.3.1//EN
TZID:America/Detroit
X-WR-TIMEZONE:America/Detroit
BEGIN:VEVENT
UID:34373@arabamerica.com
DTSTART;TZID=America/Detroit:20250517T130000
DTEND;TZID=America/Detroit:20250517T150000
DTSTAMP:20250503T234406Z
URL:https://www.arabamerica.com/events/introducing-ocp-to-pittsburgh/
SUMMARY:Introducing OCP to Pittsburgh
DESCRIPTION:PITTSBURGH\, PA\n\nOrthodox Christians for Palestine\n\nIntrodu
 cing OCP to Pittsburgh\n\nWith a special talk by Jonathan Kuttab\n\nThe On
 going Nakba:\n\n100 Plus Years of Ethnic Cleansing and Genocide\n\n&nbsp\;
 \n\nIntroductory remarks by Father Paul Abernathy\, St. Moses the Black
ATTACH;FMTTYPE=image/jpeg:https://www.arabamerica.com/wp-content/uploads/2
 025/05/BE6BBF1F-1B52-4BC1-85C7-29169CAFAE3D.png
LOCATION:Khalil Restaurant\, 4757 Baum Blvd\, Pittsburgh\, PA\, 15213\, Uni
 ted States
GEO:40.454468;-79.948146
X-APPLE-STRUCTURED-LOCATION;VALUE=URI;X-ADDRESS=4757 Baum Blvd\, Pittsburgh
 \, PA\, 15213\, United States;X-APPLE-RADIUS=100;X-TITLE=Khalil Restaurant
 :geo:40.454468,-79.948146
END:VEVENT
BEGIN:VTIMEZONE
TZID:America/Detroit
X-LIC-LOCATION:America/Detroit
BEGIN:DAYLIGHT
DTSTART:20250309T030000
TZOFFSETFROM:-0500
TZOFFSETTO:-0400
TZNAME:EDT
END:DAYLIGHT
END:VTIMEZONE
END:VCALENDAR