BEGIN:VCALENDAR
VERSION:2.0
PRODID:-//wp-events-plugin.com//7.2.3.1//EN
TZID:America/Detroit
X-WR-TIMEZONE:America/Detroit
BEGIN:VEVENT
UID:35325@arabamerica.com
DTSTART;TZID=America/Los_Angeles:20251030T183000
DTEND;TZID=America/Los_Angeles:20251030T203000
DTSTAMP:20251028T224022Z
URL:https://www.arabamerica.com/events/introduction-to-moroccan-graphic-de
 sign-histories-with-dina-benbrahim-2/
SUMMARY:Introduction to Moroccan Graphic Design Histories with Dina Benbrah
 im
DESCRIPTION:\n\nOverview\n\n\n\n\n\nAn illumination of Moroccan design hist
 ories that have been systematically undervalued\, omitted\, or exoticized 
 under colonialism.\n\n\n\n\nJoin us for an evening evening with graphic de
 sign professor Dina Benbrahim\, University of Connecticut.\n\nMoroccan de
 sign narratives that have been systematically undervalued\, omitted or exo
 ticized. From the nineteenth century through the independence from the Fre
 nch Protectorate in 1956\, the story of Moroccan art and design was writte
 n largely from a colonialist perspective. Through retelling design histori
 es centered on Moroccan perspectives\, Dina Benbrahim challenges dominant 
 narratives that have traditionally positioned European aesthetics and meth
 odologies as universal standards\, while relegating non-Western design tra
 ditions to categories like vernacular or craft. Her approach to culturally
  decolonizing design addresses several interconnected layers of historical
  erasure in North Africa. You are invited to an introductory lecture on th
 e topic and engage in a more pluralistic understanding of global design hi
 stories.\n\n------\n\nThis talk is funded through the generosity of the Ma
 ry Ausplund Tooze Endowed Visiting Professor of Islamic + Ancient Art Fund
  with additional support from the PSU Middle East Studies Center.\n\n\n\n\
 n\n
LOCATION:1120 Southeast Madison Street\, 1120 Southeast Madison Street\, Po
 rtland\, OR\, 97214\, United States
GEO:45.5126;-122.654165
X-APPLE-STRUCTURED-LOCATION;VALUE=URI;X-ADDRESS=1120 Southeast Madison Stre
 et\, Portland\, OR\, 97214\, United States;X-APPLE-RADIUS=100;X-TITLE=1120
  Southeast Madison Street:geo:45.5126,-122.654165
END:VEVENT
BEGIN:VTIMEZONE
TZID:America/Los_Angeles
X-LIC-LOCATION:America/Los_Angeles
BEGIN:DAYLIGHT
DTSTART:20250309T030000
TZOFFSETFROM:-0800
TZOFFSETTO:-0700
TZNAME:PDT
END:DAYLIGHT
END:VTIMEZONE
END:VCALENDAR