BEGIN:VCALENDAR
VERSION:2.0
PRODID:-//wp-events-plugin.com//7.2.3.1//EN
TZID:America/Detroit
X-WR-TIMEZONE:America/Detroit
BEGIN:VEVENT
UID:33422@arabamerica.com
DTSTART;TZID=America/Detroit:20241012T160000
DTEND;TZID=America/Detroit:20241012T220000
DTSTAMP:20240827T172140Z
URL:https://www.arabamerica.com/events/ioc-muslim-family-day-oct-12-2024/
SUMMARY:IOC Muslim Family Day - Oct 12\, 2024
DESCRIPTION:Cypress\, TX\n\n\nJoin us for a fun-filled day celebrating with
  your families\, packed with exciting activities and delicious Halal food!
 \n&nbsp\;\n\n\n\n\n\n\n\n\n\n\n\n\nMuslim Family Day\n\nCome join us for a
  fun-filled day at 19025 Wilks Drive\, Cypress\, TX\, USA! Muslim Family D
 ay is an exciting event where families can come together and enjoy a day o
 f festivities. We have a wide range of activities planned for everyone to 
 enjoy\, including rides\, bazaar &amp\; halal food stalls. This event is a
  great opportunity to meet new people\, make friends\, and celebrate the s
 pirit of togetherness. So mark your calendars and bring your loved ones al
 ong for a memorable day out. We can't wait to see you there!\n\nICNA Outre
 ach Center is hosting its 9th Annual MFD 2024 - This one day extravaganza 
 includes:\n\n- Tons of Fun for Everyone\n\n- Free Entrance to the Park\n\n
 - Free Parking\n\n- Rides for the whole family\n\n- Mechanical Ride\n\n- U
 nlimited Rides for only $15\n\n- Buy tickets online or onsite\n\n- Talent 
 Show\n\n- Delicious Halal Food Stations\n\n- Food - Grill Stations\n\n- Fo
 od - Ethnic Food Court\n\n- Food - Fried Chicken\n\n- Food - Snacks\n\n- F
 ood - Drinks\n\n- Cultural Non-Food Bazaar - for your shopping pleasure\n\
 n*Dresses *Toys *Souvenirs *Arts\n\n- A Family Friendly Environment\n\n- I
 nvite your Neighbors and people from all faiths\n\n- Salaah in an open 10 
 acre Park\n\n- Dawah: Visit WhyIslam booth!\n\n- Family Entertainment: Loc
 al talent\, Qari's\, Nasheed artists &amp\; much more!\n\n**** Vendors - V
 ending TBA ****\n\nNon-Food Vendor Signup: https://tinyurl.com/mfdvendor20
 24\n\nA special shout-out to our Sponsors:\n\nYM Brothers\n\nYM Sisters\n\
 nICNARelief.org\n\nHHRD.org\n\nWhyIslam.org\n\nGainPeace.com\n\nIOC - ICNA
  Outreach Center\n\n19025 Wilks Dr\n\nCypress\, TX 77433 See less\n\n\n\n\
 n\n\n\n\n\n\n\n\n\n\n\n
ATTACH;FMTTYPE=image/jpeg:https://www.arabamerica.com/wp-content/uploads/2
 024/08/Screenshot-2024-08-27-at-10.13.18 AM.png
CATEGORIES:Community,culture,Food
LOCATION:ICNA Outreach Center\, 19025 Wilks Drive\, Cypress\, United States
GEO:30.035057;-95.724352
X-APPLE-STRUCTURED-LOCATION;VALUE=URI;X-ADDRESS=19025 Wilks Drive\, Cypress
 \, United States;X-APPLE-RADIUS=100;X-TITLE=ICNA Outreach Center:geo:30.03
 5057,-95.724352
END:VEVENT
BEGIN:VTIMEZONE
TZID:America/Detroit
X-LIC-LOCATION:America/Detroit
BEGIN:DAYLIGHT
DTSTART:20240310T030000
TZOFFSETFROM:-0500
TZOFFSETTO:-0400
TZNAME:EDT
END:DAYLIGHT
END:VTIMEZONE
END:VCALENDAR