BEGIN:VCALENDAR
VERSION:2.0
PRODID:-//wp-events-plugin.com//7.2.3.1//EN
TZID:America/Detroit
X-WR-TIMEZONE:America/Detroit
BEGIN:VEVENT
UID:33547@arabamerica.com
DTSTART;TZID=America/Detroit:20240926T070000
DTEND;TZID=America/Detroit:20240926T070000
DTSTAMP:20240923T155204Z
URL:https://www.arabamerica.com/events/is-there-a-day-after-the-future-of-
 post-war-gaza-2/
SUMMARY:Is There a “Day After”? The Future of Post-War Gaza
DESCRIPTION:Zoom Webinar\n\nAlmost a full year into the war\, and after mon
 ths of failed cease-fire negotiations\, Israel’s ongoing assault on Gaza
  has resulted in more than 40\,000 dead\, including at least 16\,500 child
 ren\, destroyed most of its civilian infrastructure\, and uprooted 90% of 
 Gaza’s 2.3 million inhabitants but has so far failed to achieve its stat
 ed goal of eliminating Hamas. Although Hamas is likely to survive the onsl
 aught\, the future of the Gaza Strip the “day after” the war ends rema
 ins highly uncertain. What is Israel’s endgame for Gaza? And how does th
 is align with the needs of ordinary Palestinians and the expectations of t
 he broader international community? Will Gaza even be inhabitable after th
 e war? If so\, what will be needed to address the massive humanitarian\, i
 nfrastructural\, economic\, security\, and governance needs of the populat
 ion? To address these and other questions about the future of Gaza\, the M
 iddle East Institute (MEI) is pleased to invite you to join a virtual pane
 l discussion.\n\nSep 26\, 2024 07:00 AM PST
ATTACH;FMTTYPE=image/jpeg:https://www.arabamerica.com/wp-content/uploads/2
 024/06/Damage_in_Gaza_Strip_during_the_October_2023_-_29.jpg
END:VEVENT
BEGIN:VTIMEZONE
TZID:America/Detroit
X-LIC-LOCATION:America/Detroit
BEGIN:DAYLIGHT
DTSTART:20240310T030000
TZOFFSETFROM:-0500
TZOFFSETTO:-0400
TZNAME:EDT
END:DAYLIGHT
END:VTIMEZONE
END:VCALENDAR