BEGIN:VCALENDAR
VERSION:2.0
PRODID:-//wp-events-plugin.com//7.2.3.1//EN
TZID:America/Detroit
X-WR-TIMEZONE:America/Detroit
BEGIN:VEVENT
UID:35678@arabamerica.com
DTSTART;TZID=America/Detroit:20260127T160000
DTEND;TZID=America/Detroit:20260127T190000
DTSTAMP:20260107T180902Z
URL:https://www.arabamerica.com/events/is-there-a-path-forward-two-views-f
 rom-the-gaza-border/
SUMMARY:Is There a Path Forward? Two Views from the Gaza Border
DESCRIPTION:
ATTACH;FMTTYPE=image/jpeg:https://www.arabamerica.com/wp-content/uploads/2
 026/01/Screenshot-2026-01-07-at-10.14.18-AM.png
LOCATION:University of Michigan\, Flint 400 Mill Street \, Flint\, MI\, Uni
 ted States
GEO:43.0192896;-83.68839709999997
X-APPLE-STRUCTURED-LOCATION;VALUE=URI;X-ADDRESS=Flint 400 Mill Street \, Fl
 int\, MI\, United States;X-APPLE-RADIUS=100;X-TITLE=University of Michigan
 :geo:43.0192896,-83.68839709999997
END:VEVENT
BEGIN:VTIMEZONE
TZID:America/Detroit
X-LIC-LOCATION:America/Detroit
BEGIN:STANDARD
DTSTART:20251102T010000
TZOFFSETFROM:-0400
TZOFFSETTO:-0500
TZNAME:EST
END:STANDARD
END:VTIMEZONE
END:VCALENDAR