BEGIN:VCALENDAR
VERSION:2.0
PRODID:-//wp-events-plugin.com//7.2.3.1//EN
TZID:America/Detroit
X-WR-TIMEZONE:America/Detroit
BEGIN:VEVENT
UID:34914@arabamerica.com
DTSTART;TZID=America/Los_Angeles:20250824T170000
DTEND;TZID=America/Los_Angeles:20250824T200000
DTSTAMP:20250805T200405Z
URL:https://www.arabamerica.com/events/islam-poetry-slam-arbaeen-2025-2/
SUMMARY:Islam Poetry Slam: Arbaeen 2025
DESCRIPTION:Salaams--get ready for our 3rd event. Islam Poetry Slam\, 52 Ra
 kaats\, Mukhtar Ali\, Zain Kassamali\, Seyed Mahdi Qazwini\, powered by Th
 e Dua Brand “Islam Poetry Slam”. The topic is Arbaeen and will feature
  12 poets (6 males\, 6 females)\, guest speakers\, all in 72 minutes. Gene
 ral admission and online tickets available now! We will see you SUNDAY\, A
 ugust 24\, 2025 starting at 5pm sharp\, at:\n\n1 Civic Center Circle\, Bre
 a\, California 92821. Ticket price is $12.72 with 12% of all proceeds goin
 g to charity. RSVP link in bio. Free parking and Tabarruk. See you there\,
  thank you everyone. #IslamPoetrySlam. www.IslamPoetrySlam.com
ATTACH;FMTTYPE=image/jpeg:https://www.arabamerica.com/wp-content/uploads/2
 025/08/Screenshot-2025-08-05-at-3.02.33-PM.png
LOCATION:Curtis Theatre\, 1 Civic Center Cir \, Brea\, California\, United 
 States
GEO:33.9170035;-117.88885099999999
X-APPLE-STRUCTURED-LOCATION;VALUE=URI;X-ADDRESS=1 Civic Center Cir \, Brea\
 , California\, United States;X-APPLE-RADIUS=100;X-TITLE=Curtis Theatre:geo
 :33.9170035,-117.88885099999999
END:VEVENT
BEGIN:VTIMEZONE
TZID:America/Los_Angeles
X-LIC-LOCATION:America/Los_Angeles
BEGIN:DAYLIGHT
DTSTART:20250309T030000
TZOFFSETFROM:-0800
TZOFFSETTO:-0700
TZNAME:PDT
END:DAYLIGHT
END:VTIMEZONE
END:VCALENDAR