BEGIN:VCALENDAR
VERSION:2.0
PRODID:-//wp-events-plugin.com//7.2.3.1//EN
TZID:America/Detroit
X-WR-TIMEZONE:America/Detroit
BEGIN:VEVENT
UID:35086@arabamerica.com
DTSTART;TZID=America/Detroit:20251011T120000
DTEND;TZID=America/Detroit:20251011T140000
DTSTAMP:20250908T113553Z
URL:https://www.arabamerica.com/events/islamic-art-workshop-for-kids-with-
 artist-hina-chaudhry-frisco/
SUMMARY:Islamic Art Workshop for Kids\, with Artist Hina Chaudhry\, Frisco
DESCRIPTION:FRISCO\, TX\n\n\n\nThere is an artist in everyone. No\, really.
  There is! Art is fun\, but art with dhikr is even more fun! Join me for a
  crash course on acrylic painting. I will walk you through a complete Isla
 mic acrylic painting\, step by step\, from start to finish. You will learn
  best practices\, have lots of fun and perform dhikr simultaneously. This 
 class is for all experience levels. You just need a positive attitude and 
 an open mind. There is an artist in everyone and you will end the class wi
 th your own finished masterpiece! Classes have been filling very fast.. bo
 ok your seat today so you don't miss out! World renowned award winning art
 ist Hina Chaudhry will be teaching this class. Check out Hina Chaudhry - A
 rt for pictures of previous classes.\n\nWhat: Islamic Art Class For Kids a
 ges 5-9\n\nWhere: Islamic Center of Frisco\n\nWhen: Saturday October 11\, 
 2025 12:00 - 2:00 pm\n\nWho: ages 5-9\n\nCost: $35 (plus applicable fees) 
 All materials will be provided. You do not need to bring anything!\n\nTo k
 eep it age appropriate\, each participant will receive an 8 x 10 canvas wi
 th presketched arabic calligraphy to paint.\n\n&nbsp\;\n\n&nbsp\;\n\nOrigi
 nal hand made artwork will also be on display and for sale.
ATTACH;FMTTYPE=image/jpeg:https://www.arabamerica.com/wp-content/uploads/2
 025/09/is.jpeg
LOCATION:Islamic Center of Frisco\, 11137 Frisco Street\, Frisco\, TX\, 750
 33\, United States
GEO:33.172372;-96.834795
X-APPLE-STRUCTURED-LOCATION;VALUE=URI;X-ADDRESS=11137 Frisco Street\, Frisc
 o\, TX\, 75033\, United States;X-APPLE-RADIUS=100;X-TITLE=Islamic Center o
 f Frisco:geo:33.172372,-96.834795
END:VEVENT
BEGIN:VTIMEZONE
TZID:America/Detroit
X-LIC-LOCATION:America/Detroit
BEGIN:DAYLIGHT
DTSTART:20250309T030000
TZOFFSETFROM:-0500
TZOFFSETTO:-0400
TZNAME:EDT
END:DAYLIGHT
END:VTIMEZONE
END:VCALENDAR