BEGIN:VCALENDAR
VERSION:2.0
PRODID:-//wp-events-plugin.com//7.2.3.1//EN
TZID:America/Detroit
X-WR-TIMEZONE:America/Detroit
BEGIN:VEVENT
UID:35203@arabamerica.com
DTSTART;TZID=America/Detroit:20251011T143000
DTEND;TZID=America/Detroit:20251011T173000
DTSTAMP:20251007T220254Z
URL:https://www.arabamerica.com/events/islamic-art-workshop-for-teens-with
 -artist-hina-chaudhry-frisco-2/
SUMMARY:Islamic Art Workshop for teens with Artist Hina Chaudhry\, Frisco
DESCRIPTION:FRISCO\, TX\n\nIslamic art workshop for Middle and High School 
 students\n\n\n\n\n\nGood to know\n\n\n\n\n\nHighlights\n\n\n\n 	3 hours\n 
 	In person\n 	\n\n\n\n\n\n\n\nRefund Policy\n\nNo refunds\n\n\n\n\n\n\n\n\
 n\n\n\n\nAbout this event\n\nSpirituality • Islam\n\n\n\n\n\n\nThere is 
 an artist in everyone. No\, really. There is! Art is fun\, but art with dh
 ikr is even more fun! Join me for a crash course on acrylic painting and a
 rabic calligraphy. I will walk you through a complete Islamic acrylic pain
 ting\, step by step\, from start to finish. You will learn best practices\
 , have lots of fun and perform dhikr simultaneously. This class is for all
  experience levels. You just need a positive attitude and an open mind. Th
 ere is an artist in everyone and you will end the class with your own fini
 shed masterpiece! Classes have been filling very fast.. book your seat tod
 ay so you don't miss out! World renowned award winning artist Hina Chaudhr
 y will be teaching this class. Check out Hina Chaudhry - Art for pictures 
 of previous classes.\n\nWhat: Islamic Art Class For Kids and Teens (middle
  and high school)\n\nWhere: Islamic Center of Frisco\n\nWhen: Saturday Oct
 ober 11\, 2025 2:30 - 5:30 pm\n\nWho: ages 10 - 18\n\nCost: $45 (plus appl
 icable fees) All materials will be provided. You do not need to bring anyt
 hing!\n\nGet Tickets Here\n\n\n\n\n\n\n\n\n
ATTACH;FMTTYPE=image/jpeg:https://www.arabamerica.com/wp-content/uploads/2
 025/10/Screenshot-2025-10-07-at-5.45.15-PM.png
LOCATION:Islamic Center of Frisco\, 11137 Frisco St\, Frisco\, TX\, United 
 States
GEO:33.172377;-96.834807
X-APPLE-STRUCTURED-LOCATION;VALUE=URI;X-ADDRESS=11137 Frisco St\, Frisco\, 
 TX\, United States;X-APPLE-RADIUS=100;X-TITLE=Islamic Center of Frisco:geo
 :33.172377,-96.834807
END:VEVENT
BEGIN:VTIMEZONE
TZID:America/Detroit
X-LIC-LOCATION:America/Detroit
BEGIN:DAYLIGHT
DTSTART:20250309T030000
TZOFFSETFROM:-0500
TZOFFSETTO:-0400
TZNAME:EDT
END:DAYLIGHT
END:VTIMEZONE
END:VCALENDAR