BEGIN:VCALENDAR
VERSION:2.0
PRODID:-//wp-events-plugin.com//7.2.3.1//EN
TZID:America/Detroit
X-WR-TIMEZONE:America/Detroit
BEGIN:VEVENT
UID:34732@arabamerica.com
DTSTART;TZID=America/Detroit:20250713T143000
DTEND;TZID=America/Detroit:20250713T173000
DTSTAMP:20250708T164158Z
URL:https://www.arabamerica.com/events/islamic-art-workshop-for-teens-with
 -artist-hina-chaudhry-frisco/
SUMMARY:Islamic Art Workshop for teens with Artist Hina Chaudhry\, Frisco
DESCRIPTION:FRISCO\, TX\n\n&nbsp\;\n\nIslamic art workshop for Middle and H
 igh School students\n\nThere is an artist in everyone. No\, really. There 
 is! Art is fun\, but art with dhikr is even more fun! Join me for a crash 
 course on acrylic painting and arabic calligraphy. I will walk you through
  a complete Islamic acrylic painting\, step by step\, from start to finish
 . You will learn best practices\, have lots of fun and perform dhikr simul
 taneously. This class is for all experience levels. You just need a positi
 ve attitude and an open mind. There is an artist in everyone and you will 
 end the class with your own finished masterpiece! Classes have been fillin
 g very fast.. book your seat today so you don't miss out! World renowned a
 ward winning artist Hina Chaudhry will be teaching this class. Check out H
 ina Chaudhry - Art for pictures of previous classes.\n\nWhat: Islamic Art 
 Class For Kids and Teens (middle and high school)\n\nWhere: Islamic Center
  of Frisco\n\nWhen: Sunday July 13\, 2025 2:30 - 5:30 pm\n\nWho: ages 10 -
  18\n\nCost: $45 (plus applicable fees) All materials will be provided. Yo
 u do not need to bring anything!\n\nOriginal hand made artwork will also b
 e on display and for sale.\n\nGet Tickets Here
ATTACH;FMTTYPE=image/jpeg:https://www.arabamerica.com/wp-content/uploads/2
 025/07/Screenshot-2025-07-08-at-12.41.55-PM.png
CATEGORIES:Arab American,Community,culture
LOCATION:Islamic Center of Frisco\, 11137 Frisco Street\, Frisco\, TX\, 750
 33\, United States
GEO:33.172372;-96.834795
X-APPLE-STRUCTURED-LOCATION;VALUE=URI;X-ADDRESS=11137 Frisco Street\, Frisc
 o\, TX\, 75033\, United States;X-APPLE-RADIUS=100;X-TITLE=Islamic Center o
 f Frisco:geo:33.172372,-96.834795
END:VEVENT
BEGIN:VTIMEZONE
TZID:America/Detroit
X-LIC-LOCATION:America/Detroit
BEGIN:DAYLIGHT
DTSTART:20250309T030000
TZOFFSETFROM:-0500
TZOFFSETTO:-0400
TZNAME:EDT
END:DAYLIGHT
END:VTIMEZONE
END:VCALENDAR