BEGIN:VCALENDAR
VERSION:2.0
PRODID:-//wp-events-plugin.com//7.2.3.1//EN
TZID:America/Detroit
X-WR-TIMEZONE:America/Detroit
BEGIN:VEVENT
UID:34693@arabamerica.com
DTSTART;TZID=America/Detroit:20250713T150000
DTEND;TZID=America/Detroit:20250713T183000
DTSTAMP:20250702T140305Z
URL:https://www.arabamerica.com/events/islamic-art-workshop-with-artist-hi
 na-chaudhry-frisco/
SUMMARY:Islamic Art Workshop with Artist Hina Chaudhry\, Frisco
DESCRIPTION:FRISCO\, TX\n\n\n\nThere is an artist in everyone. No\, really.
  There is! Art is fun\, but art with dhikr is even more fun! Join me for a
  crash course on acrylic painting and arabic calligraphy. I will walk you 
 through a complete Islamic acrylic painting\, step by step\, from start to
  finish. You will learn best practices\, have lots of fun and perform dhik
 r simultaneously. This class is for all experience levels. You just need a
  positive attitude and an open mind. There is an artist in everyone and yo
 u will end the class with your own finished masterpiece! Classes have been
  filling very fast.. book your seat today so you don't miss out! World ren
 owned award winning artist Hina Chaudhry will be teaching this class. Chec
 k out Hina Chaudhry - Art for pictures of previous classes.\n\nWhat: Islam
 ic Art Class For Kids and Teens (middle and high school)\n\nWhere: Islamic
  Center of Frisco\n\nWhen: Sunday July 13\, 2025 3:00 - 6:30 pm\n\nWho: ag
 es 10 - 18\n\nCost: $45 (plus applicable fees) All materials will be provi
 ded. You do not need to bring anything!
ATTACH;FMTTYPE=image/jpeg:https://www.arabamerica.com/wp-content/uploads/2
 025/07/zz.jpg
LOCATION:Islamic Center of Frisco\, 11137 Frisco St \, Frisco\, Texas\, 750
 33 \, United States
GEO:33.172372;-96.834795
X-APPLE-STRUCTURED-LOCATION;VALUE=URI;X-ADDRESS=11137 Frisco St \, Frisco\,
  Texas\, 75033 \, United States;X-APPLE-RADIUS=100;X-TITLE=Islamic Center 
 of Frisco:geo:33.172372,-96.834795
END:VEVENT
BEGIN:VTIMEZONE
TZID:America/Detroit
X-LIC-LOCATION:America/Detroit
BEGIN:DAYLIGHT
DTSTART:20250309T030000
TZOFFSETFROM:-0500
TZOFFSETTO:-0400
TZNAME:EDT
END:DAYLIGHT
END:VTIMEZONE
END:VCALENDAR