BEGIN:VCALENDAR
VERSION:2.0
PRODID:-//wp-events-plugin.com//7.2.3.1//EN
TZID:America/Detroit
X-WR-TIMEZONE:America/Detroit
BEGIN:VEVENT
UID:35557@arabamerica.com
DTSTART;TZID=America/North_Dakota/Center:20251220T170000
DTEND;TZID=America/North_Dakota/Center:20251220T190000
DTSTAMP:20251216T070713Z
URL:https://www.arabamerica.com/events/islamic-financing-homebuyer-class-m
 urabaha-financing/
SUMMARY:Islamic Financing Homebuyer Class -Murabaha Financing
DESCRIPTION:\nJoin us in person to learn all about Murabaha financing for f
 aith-aligned home buying made easy!\n\n\n\nFaith-Aligned Homeownership: A 
 Complete Guide to Murabaha Financing\nBuying a home is one of the biggest 
 financial decisions you’ll ever make and understanding your options is t
 he first step. Join us for an educational\, beginner-friendly workshop des
 igned to help you navigate homeownership through a halal lens.\n\nHosted b
 y Sheikh Hassan and Mortgage Advisors Abdihakim Ali and Ekrama Omar\, this
  class will walk you through Murabaha financing\, how it differs from con
 ventional lending\, and what to expect throughout the process. Whether you
 ’re exploring your first home purchase or simply want to learn how halal
  financing works\, this event will give you clarity\, confidence\, and pra
 ctical next steps.\nWhat We’ll Cover\n\n 	What makes a loan halal?\n 	M
 urabaha financing vs. conventional mortgages\n 	The step-by-step Murabaha 
 home financing process\n 	What to expect when working with an Islamic lend
 er\n 	How to prepare for a smooth home-buying journey\n 	Q&amp\;A with exp
 erienced advisors\n\nWho Should Attend\n\n 	First-time homebuyers\n 	Anyon
 e curious about halal home financing\n 	Current homeowners exploring Shari
 ah-compliant options\n 	Realtors and industry partners wanting to better 
 understand Murabaha transactions\n\nWhy You’ll Love This Workshop\nYou
 ’ll leave with a clear understanding of the halal path to homeownership\
 , plus insider guidance from lenders who specialize in Islamic financing m
 odels. No sales pitches. Just real education.\n\n\n
ATTACH;FMTTYPE=image/jpeg:https://www.arabamerica.com/wp-content/uploads/2
 025/12/Screenshot-2025-12-15-at-11.11.49-PM.png
CATEGORIES:Arab American,Community
LOCATION:Zawadi Restaurant and Event Center\, 1701 American Boulevard East 
 \, Bloomington\, MN\,  55425\, United States
GEO:44.85898;-93.250898
X-APPLE-STRUCTURED-LOCATION;VALUE=URI;X-ADDRESS=1701 American Boulevard Eas
 t \, Bloomington\, MN\,  55425\, United States;X-APPLE-RADIUS=100;X-TITLE=
 Zawadi Restaurant and Event Center:geo:44.85898,-93.250898
END:VEVENT
BEGIN:VTIMEZONE
TZID:America/North_Dakota/Center
X-LIC-LOCATION:America/North_Dakota/Center
BEGIN:STANDARD
DTSTART:20251102T010000
TZOFFSETFROM:-0500
TZOFFSETTO:-0600
TZNAME:CST
END:STANDARD
END:VTIMEZONE
END:VCALENDAR