BEGIN:VCALENDAR
VERSION:2.0
PRODID:-//wp-events-plugin.com//7.2.3.1//EN
TZID:America/Detroit
X-WR-TIMEZONE:America/Detroit
BEGIN:VEVENT
UID:30447@arabamerica.com
DTSTART;TZID=America/Detroit:20230719T180000
DTEND;TZID=America/Detroit:20230719T203000
DTSTAMP:20230208T134346Z
URL:https://www.arabamerica.com/events/iteru-fluid-presence-collective-dra
 wing-movement-workshops-3/
SUMMARY:Iteru: Fluid Presence – Collective Drawing & Movement Workshops
DESCRIPTION:In-person at The Annex @ AANM OR virtual via online livestream\
 n\nFREE with RSVP\n\nThe Concert of Colors Forum on Community\, Culture &a
 mp\; Race\, one of the Arab American National Museum’s signature annual 
 events\, is a dynamic gathering of artists\, activists and advocates who u
 se art and dialogue as a tool for advocacy and community building. This ye
 ar’s program will be presented both in person and virtually online.\n\nT
 he Forum speakers are TBA.\n\nConcert of Colors\, Detroit’s annual diver
 sity festival\, will be happening July 20-23! More info + full concert lin
 eup
ATTACH;FMTTYPE=image/jpeg:https://www.arabamerica.com/wp-content/uploads/2
 023/02/E1A54BB4-0CF3-41C5-8BAB-2A9598919D31.jpeg
CATEGORIES:Arab America Museum,Arab American National Museum,Arab Art,Arab
 Artists,Art,Art Gallery,Art Workshop,Artists
LOCATION:Arab American National Museum\, 13624 Michigan Avenue\, Dearborn \
 , MI\, 48126\, United States
GEO:42.3222224;-83.1766346
X-APPLE-STRUCTURED-LOCATION;VALUE=URI;X-ADDRESS=13624 Michigan Avenue\, Dea
 rborn \, MI\, 48126\, United States;X-APPLE-RADIUS=100;X-TITLE=Arab Americ
 an National Museum:geo:42.3222224,-83.1766346
END:VEVENT
BEGIN:VTIMEZONE
TZID:America/Detroit
X-LIC-LOCATION:America/Detroit
BEGIN:DAYLIGHT
DTSTART:20230312T030000
TZOFFSETFROM:-0500
TZOFFSETTO:-0400
TZNAME:EDT
END:DAYLIGHT
END:VTIMEZONE
END:VCALENDAR