BEGIN:VCALENDAR
VERSION:2.0
PRODID:-//wp-events-plugin.com//7.2.3.1//EN
TZID:America/Detroit
X-WR-TIMEZONE:America/Detroit
BEGIN:VEVENT
UID:30422@arabamerica.com
DTSTART;TZID=America/Detroit:20230713T180000
DTEND;TZID=America/Detroit:20230713T200000
DTSTAMP:20230207T150110Z
URL:https://www.arabamerica.com/events/iteru-fluid-presence-collective-dra
 wing-movement-workshops/
SUMMARY:Iteru: Fluid Presence – Collective Drawing & Movement Workshops
DESCRIPTION:DEARBORN\, MI\nIteru: Fluid Presence – Collective Drawing &am
 p\; Movement Workshops w/ Katherine Toukhy\nIn-person at AANM\; Free with
  RSVP\nRegister for Thursday\, July 13 | Register for Thursday\, Aug. 3\
 n\nJoin AANM and artist-in-residence Katherine Toukhy for a workshop eng
 aging process-based drawing and movement\, in conjunction with Iteru. It
 eru is a community-sourced art piece that centers BIPOC (Black\, Indigeno
 us and people of color) residents to explore their physical movements and 
 sensory knowledge of native plants to discover the rhythms and shapes that
  bring us together and express change\, right now. What is the visual symb
 iosis between plant forms and human forms? How can we co-create spaces of 
 trust\, fun\, and freedom to let our bodies move to their own impulses? Wh
 at stories do our physical movements tell us about our resistance and thri
 ving?\n\nPlease note that this workshop is open to and can accommodate for
  all abilities.\n\n&nbsp\;\n\nFor more questions\, e-mail Fatima Al-Rasool
  at fal-rasool@accesscommunity.org
ATTACH;FMTTYPE=image/jpeg:https://www.arabamerica.com/wp-content/uploads/2
 023/02/Screen-Shot-2022-09-23-at-12.00.13-AM.png
CATEGORIES:Arab American National Museum,Workshop
LOCATION:Arab American National Museum\, 13624 Michigan Avenue\, Dearborn \
 , MI\, 48126\, United States
GEO:42.3222224;-83.1766346
X-APPLE-STRUCTURED-LOCATION;VALUE=URI;X-ADDRESS=13624 Michigan Avenue\, Dea
 rborn \, MI\, 48126\, United States;X-APPLE-RADIUS=100;X-TITLE=Arab Americ
 an National Museum:geo:42.3222224,-83.1766346
END:VEVENT
BEGIN:VTIMEZONE
TZID:America/Detroit
X-LIC-LOCATION:America/Detroit
BEGIN:DAYLIGHT
DTSTART:20230312T030000
TZOFFSETFROM:-0500
TZOFFSETTO:-0400
TZNAME:EDT
END:DAYLIGHT
END:VTIMEZONE
END:VCALENDAR