BEGIN:VCALENDAR
VERSION:2.0
PRODID:-//wp-events-plugin.com//7.2.3.1//EN
TZID:America/Detroit
X-WR-TIMEZONE:America/Detroit
BEGIN:VEVENT
UID:36216@arabamerica.com
DTSTART;TZID=America/New_York:20260502T110000
DTEND;TZID=America/New_York:20260502T210000
DTSTAMP:20260421T143419Z
URL:https://www.arabamerica.com/events/jaama-launch-event/
SUMMARY:JAAMA Launch Event
DESCRIPTION:NEW YORK\, NY\n\n\n\nLaunch of JAAMA – early and exclusive ac
 cess to our first drop before the website drops and connect with others in
  the community\n\n\n\n\n\nJAAMA– Modesty Rooted in Culture\nJAAMA is a c
 elebration of modesty\, culture\, and craftsmanship. Our hijabs and niqabs
  are carefully handcrafted by skilled local artisans in The Gambia\, ensur
 ing every piece is unique — even items of the same design will not be id
 entical.\n\nFrom start to finish\, our entire process is rooted in The Gam
 bia\, where we prioritize sustainability\, ethical work practices and empo
 wering local community members. Each piece reflects care\, tradition\, and
  creativity\, offering you a connection to both our culture and craftsmans
 hip.\n\nA percentage of our monthly profits is donated to charitable initi
 atives in The Gambia\, directly supporting the communities that inspire an
 d sustain our work.\n\nJoin us for the launch of JAAMA — where modesty m
 eets culture\, and every piece tells a story.\n\nInstagram: Jaama.designs\
 n\nTikTok: Jaama.designs\n\nhttps://www.eventbrite.com/e/jaama-launch-even
 t-tickets-1986935784418?aff=ebdssbdestsearch\n\n\n
ATTACH;FMTTYPE=image/jpeg:https://www.arabamerica.com/wp-content/uploads/2
 026/04/Screenshot-2026-04-21-at-10.31.20-AM.png
LOCATION:618 E 9th St\, 618 E 9th St\, New York\, NY\, 10009\, United State
 s
GEO:40.725801;-73.979415
X-APPLE-STRUCTURED-LOCATION;VALUE=URI;X-ADDRESS=618 E 9th St\, New York\, N
 Y\, 10009\, United States;X-APPLE-RADIUS=100;X-TITLE=618 E 9th St:geo:40.7
 25801,-73.979415
END:VEVENT
BEGIN:VTIMEZONE
TZID:America/New_York
X-LIC-LOCATION:America/New_York
BEGIN:DAYLIGHT
DTSTART:20260308T030000
TZOFFSETFROM:-0500
TZOFFSETTO:-0400
TZNAME:EDT
END:DAYLIGHT
END:VTIMEZONE
END:VCALENDAR