BEGIN:VCALENDAR
VERSION:2.0
PRODID:-//wp-events-plugin.com//7.2.3.1//EN
TZID:America/Detroit
X-WR-TIMEZONE:America/Detroit
BEGIN:VEVENT
UID:34280@arabamerica.com
DTSTART;TZID=America/Detroit:20250412T180000
DTEND;TZID=America/Detroit:20250412T230000
DTSTAMP:20250407T061356Z
URL:https://www.arabamerica.com/events/jamila-the-other-heroes-creativity-
 in-the-palestinian-diaspora/
SUMMARY:Jamila & the Other Heroes - Creativity in the Palestinian Diaspora
DESCRIPTION:BEACON\, NY\n\n7:00-8:00 PM\n\nFilm Screening and talk with Kha
 led Jarrar\n\n8:00-9:00 PM\n\nJamila and the Other Heroes Live Performance
 \n\n9:00-10:00 PM\n\nCommunity Jam Session\n\n&nbsp\;\n\n\n\n\n\n\n\n\n\nI
 n addition to the live performance\, there will be a show of Photgraphy by
  Ali Asfour\, a short film by Khaled Jarrar followed by a Q&amp\;A\, and w
 orks or music by Jude Abu Zaineh\, Nour Jamil\, Dani Murcia\, Sam Sundos\,
  and Tahla Waqar. The event will be raising money for Palestine Music Spac
 e and Palestine Music Expo. Sliding scale tickets\, suggested $25 donation
  per person.\n\n\n\n\n\n\n\n\n\n\n\n\n\n\n\n
ATTACH;FMTTYPE=image/jpeg:https://www.arabamerica.com/wp-content/uploads/2
 025/04/Screenshot-2025-04-07-at-2.21.23 AM.png
LOCATION:The Yard\, 4 Hanna Lane\, Beacon\, NY\, 12508\, United States
GEO:41.506183;-73.960893
X-APPLE-STRUCTURED-LOCATION;VALUE=URI;X-ADDRESS=4 Hanna Lane\, Beacon\, NY\
 , 12508\, United States;X-APPLE-RADIUS=100;X-TITLE=The Yard:geo:41.506183,
 -73.960893
END:VEVENT
BEGIN:VTIMEZONE
TZID:America/Detroit
X-LIC-LOCATION:America/Detroit
BEGIN:DAYLIGHT
DTSTART:20250309T030000
TZOFFSETFROM:-0500
TZOFFSETTO:-0400
TZNAME:EDT
END:DAYLIGHT
END:VTIMEZONE
END:VCALENDAR