BEGIN:VCALENDAR
VERSION:2.0
PRODID:-//wp-events-plugin.com//7.2.3.1//EN
TZID:America/Detroit
X-WR-TIMEZONE:America/Detroit
BEGIN:VEVENT
UID:35665@arabamerica.com
DTSTART;TZID=America/Los_Angeles:20260110T220000
DTEND;TZID=America/Los_Angeles:20260111T020000
DTSTAMP:20260107T012930Z
URL:https://www.arabamerica.com/events/jan-10-sat-hafla-habibi-dabke-after
 dark-party-mountain-view/
SUMMARY:JAN 10 | SAT | HAFLA HABIBI | DABKE AFTERDARK PARTY | MOUNTAIN VIEW
DESCRIPTION:\n\nBay Area’s Top Nightclub Party ! Turkish\, Arabic\, Persi
 an songs\, Global Remixes &amp\; Trending TikTok mixes. Hookah is availabl
 e.\n\n\n\n\nThe DJs will take you on an unforgettable journey with the hot
 test Middle Eastern hits\, Afrohouse\, Arabic remixes\, Turkish\, Arabic\,
  Persian \, and trending TikTok tracks. Live Darbuka and Tabla performance
 s set the rhythm\, while professional belly dancers add a mesmerizing\, hi
 gh-energy touch. Experience the ultimate Middle Eastern nightlife in style
 —this is a party you won’t want to miss.\n\nAge Restriction: 21+ &#x1f
 6d1\; (Valid State-issued ID/Driver License or Passport required\; no pho
 tocopies or digital IDs. Club strictly enforces this)\n\nNO REFUNDS\n\n\n\
 n\n\n\n\n\n\n\n\n\n\nWhat to Expect:\n\n 	An immersive Middle Eastern musi
 c\, belly dancers\, and much more.\n 	Curated beats blending Arabic hits\,
  Afrohouse\, global remixes\, and viral TikTok tunes.\n 	Live percussion w
 ith Darbuka and Tabla\, accompanied by captivating belly dance performance
 s.\n 	A sophisticated\, upscale ambiance perfect for dancing\, socializing
 \, and making memories.\n 	An opportunity to connect with fellow music lov
 ers and experience the Bay Area’s most talked-about Middle Eastern event
 .\n\n1. Upscale &amp\; Elegant:\nSet in an upscale Mountain View nightclub
 \, the venue boasts state-of-the-art sound\, dazzling lights\, and a chic 
 ambiance designed for unforgettable nights.\n\n2. Vibrant &amp\; Immersive
 :\nOur Mountain View venue features a spacious dance floor\, premium light
 ing\, and immersive sound—perfect for music\, dance\, and high-energy vi
 bes.\n\n3. Luxe &amp\; Social:\nLocated in the heart of Mountain View\, th
 is stylish nightclub offers VIP seating\, modern décor\, and an electrify
 ing atmosphere that keeps the party alive.\n\n\n\n\n\n\n\n\n\n\n\n\n\n\n\n
 \n\n\n\n\nLOOKING FOR VIP TABLE? (HOOKAH OR BOTTLE SERVICE)\nEnjoy an excl
 usive Lit VIP experience with benefits such as fast entry\, guaranteed tab
 le seating\, cover for up to 5 people\, a dedicated VIP area\, and mixers 
 for your drinks.\n**Minimum 0ne bottle is mandatory or 4 buckets from misc
  item to be seated on table (Club policy)\nDM US ON IG TO RESERVE IT (CLI
 CK HERE AND DM)\n\n\n\n\n\n\n\n\n\n\n\n\n\n\n\n\n\n\n\n\n\n\n\n\n\n\n\n\n\
 n\n\n\n\n\nMUST READ BELOW---Important---MUST READ BELOW\n\nDisclaimer:\n\
 n 	NO REFUND POLICY----- Pls dont dm for refunds or request on eventbrite.
 \n 	Public event that will be covered by photographer. By entering the eve
 nt premises\, you consent to interview(s)\, photography\, audio\, recordin
 g\, video recording and its/their release\, publication\, exhibition\, or 
 reproduction to be used for news\, web casts\, promotional purposes\, tele
 casts\, advertising\, inclusion on websites\, social media and other offli
 ne marketing purposes.\n 	Price is variable and may fluctuate based on dem
 and.\n 	As a reminder\, the dress code for the occasion is upscale. We kin
 dly request that all attendees make an effort to dress elegantly and styli
 shly\, adding to the overall ambiance of the event.\n\n\n\n\n\n\n\n\n\n\n\
 n\n\n\n\n\n
ATTACH;FMTTYPE=image/jpeg:https://www.arabamerica.com/wp-content/uploads/2
 026/01/https___cdn.evbuc_.com_images_1173550214_2897459631821_1_original.j
 pg
CATEGORIES:21+ Event,Arab,California Event,clubbing,nightclub
LOCATION:Opal Social Club\, 251 Castro Street\, Mountain View\, CA\, 94041\
 , United States
GEO:37.393109;-122.079018
X-APPLE-STRUCTURED-LOCATION;VALUE=URI;X-ADDRESS=251 Castro Street\, Mountai
 n View\, CA\, 94041\, United States;X-APPLE-RADIUS=100;X-TITLE=Opal Social
  Club:geo:37.393109,-122.079018
END:VEVENT
BEGIN:VTIMEZONE
TZID:America/Los_Angeles
X-LIC-LOCATION:America/Los_Angeles
BEGIN:STANDARD
DTSTART:20251102T010000
TZOFFSETFROM:-0700
TZOFFSETTO:-0800
TZNAME:PST
END:STANDARD
END:VTIMEZONE
END:VCALENDAR