BEGIN:VCALENDAR
VERSION:2.0
PRODID:-//wp-events-plugin.com//7.2.3.1//EN
TZID:America/Detroit
X-WR-TIMEZONE:America/Detroit
BEGIN:VEVENT
UID:34324@arabamerica.com
DTSTART;TZID=America/Detroit:20250509T200000
DTEND;TZID=America/Detroit:20250509T233000
DTSTAMP:20250423T190243Z
URL:https://www.arabamerica.com/events/javiers-party-with-ehab-tawfik/
SUMMARY:Javier's Party with Ehab Tawfik
DESCRIPTION:DETROIT\, MI\n\nJoin us for an unforgettable Arabian Night at J
 avier’s Downtown (1452 Brush St.\, Detroit) on Friday\, May 9th!\n\nStep
  into an enchanted evening of music\, culture\, and magic. Experience the 
 captivating charm of the Middle East with a special live performance by Eg
 yptian superstar Ehab Tawfik\, making a rare and possibly final appearance
  in the U.S.\n\nImmerse yourself in a night of vibrant energy\, beautiful 
 ambiance\, and the legendary voice of one of Egypt’s greatest icons. Don
 ’t miss this once-in-a-lifetime celebration!\n\nCome early and stay late
  to make the most of this magical event.\n\nLet the magic begin!
ATTACH;FMTTYPE=image/jpeg:https://www.arabamerica.com/wp-content/uploads/2
 025/04/Screenshot-2025-04-23-at-3.10.11 PM.png
LOCATION:Javier's Downtown\, 1452 Brush St\, Detroit\, MI\, 48226\, United 
 States
GEO:42.336838;-83.045032
X-APPLE-STRUCTURED-LOCATION;VALUE=URI;X-ADDRESS=1452 Brush St\, Detroit\, M
 I\, 48226\, United States;X-APPLE-RADIUS=100;X-TITLE=Javier's Downtown:geo
 :42.336838,-83.045032
END:VEVENT
BEGIN:VTIMEZONE
TZID:America/Detroit
X-LIC-LOCATION:America/Detroit
BEGIN:DAYLIGHT
DTSTART:20250309T030000
TZOFFSETFROM:-0500
TZOFFSETTO:-0400
TZNAME:EDT
END:DAYLIGHT
END:VTIMEZONE
END:VCALENDAR