BEGIN:VCALENDAR
VERSION:2.0
PRODID:-//wp-events-plugin.com//7.2.3.1//EN
TZID:America/Detroit
X-WR-TIMEZONE:America/Detroit
BEGIN:VEVENT
UID:35263@arabamerica.com
DTSTART;TZID=America/Detroit:20251101T140000
DTEND;TZID=America/Detroit:20251101T170000
DTSTAMP:20251020T120622Z
URL:https://www.arabamerica.com/events/jewelry-workshop-paint-sip/
SUMMARY:Jewelry Workshop / Paint & Sip
DESCRIPTION:AURORA\, CO\n\n\n\nJoin us for an afternoon of creativity\, cul
 ture\, and community at the Mile High Souk Creative Workshops! &#x2728\;\n
 \nThis hands-on event brings people together to unwind\, express themselve
 s\, and celebrate art in all its forms. Whether you’re painting with fri
 ends over a cozy sip or crafting jewelry that carries meaning and memory\,
  this is your chance to connect with community and make something beautifu
 l.\n\n&#x1f3a8\; Earring Workshop with Jannah from Vibrant Love Artistry\n
 Make your own solidarity earrings for Sudan in a guided workshop led by lo
 cal artist @Jannah.Loves. Earrings will be painted using acrylic paint. Ea
 ch pair is a creative act of care\, honoring Sudanese resilience and story
 telling through art.\n\n&#x1f58c\;&#xfe0f\; Paint &amp\; Sip\nRelax and pa
 int in a warm\, welcoming environment! Just bring your creativity.\n\n&#x1
 f9f5\; Tatreez Embroidery Workshop\nExperience the beauty and meaning of t
 atreez\, the traditional Palestinian art of embroidery that has been passe
 d down through generations. In this workshop\, you’ll learn basic stitch
 es\, patterns\, and the cultural stories woven into each thread.\n\n&#x1f4
 ab\; Beaded Jewelry Workshop\nLearn the art of beading and create your own
  personalized jewelry piece using colorful\, high-quality materials. A bea
 utiful way to slow down\, express yourself\, and connect with others throu
 gh craft.\n\n&#x1f375\; Plus: Moroccan Tea for All Participants\nEnjoy a w
 arm serving of traditional Moroccan tea\, offered to all participants as p
 art of the Mile High Souk experience — a moment to pause\, connect\, and
  share stories together.\n\nAll materials will be provided\, and participa
 nts will take home their own pieces as a keepsake of solidarity and creati
 vity.
ATTACH;FMTTYPE=image/jpeg:https://www.arabamerica.com/wp-content/uploads/2
 025/10/https-cdn.evbuc_.com-images-1153315783-2953257099021-1-original.202
 51014-210812.jpeg
LOCATION:Saj Fresh Grill\, 2300 South Parker Road \, Aurora\, CO\, 80014\, 
 United States
GEO:39.674342;-104.869428
X-APPLE-STRUCTURED-LOCATION;VALUE=URI;X-ADDRESS=2300 South Parker Road \, A
 urora\, CO\, 80014\, United States;X-APPLE-RADIUS=100;X-TITLE=Saj Fresh Gr
 ill:geo:39.674342,-104.869428
END:VEVENT
BEGIN:VTIMEZONE
TZID:America/Detroit
X-LIC-LOCATION:America/Detroit
BEGIN:DAYLIGHT
DTSTART:20250309T030000
TZOFFSETFROM:-0500
TZOFFSETTO:-0400
TZNAME:EDT
END:DAYLIGHT
END:VTIMEZONE
END:VCALENDAR